BEGIN:VCALENDAR
VERSION:2.0
PRODID:-//ChamberMaster//Event Calendar 2.0//EN
METHOD:PUBLISH
X-PUBLISHED-TTL:P3D
REFRESH-INTERVAL:P3D
CALSCALE:GREGORIAN
BEGIN:VEVENT
DTSTART:20260414T160000Z
DTEND:20260414T190000Z
X-MICROSOFT-CDO-ALLDAYEVENT:FALSE
SUMMARY:AI for Small & Mid-Sized Businesses
DESCRIPTION:LOCATION CHANGE to Chamber Office\n\nJoin us to learn how to Use AI Safely\, Productively\, and Responsibly\n\nAI is already changing how businesses operate.\n\nThe question isn't whether you'll use it. The question is whether you'll use it wisely.\n\nJoin BytaGig for a practical\, hands-on executive workshop designed specifically for SMB leaders. \n\n\nWhat You'll Learn:\n\n  Increase productivity with AI tools\n\n  Automate repetitive workflows safely\n\n  Protect sensitive business data\n\n  Avoid costly AI-related mistakes\n\n  Build a simple AI usage policy\n\n  Defend against AI-powered cyber threats\n\nWhat You'll Experience:\n\n  Live AI demonstrations and real SMB use cases\n\n  Hands-on prompt training exercises\n\n  Cybersecurity and compliance guidance\n\n  AI governance and risk assessment framework\n\n  A clear roadmap for safe AI adoption\n\nAI brings opportunity. It also brings risk.\n\nLearn how to modernize safely.\n\n\n\nPresented by BytaGig\n\nTechnology Management & Cybersecurity Partner for SMBs
X-ALT-DESC;FMTTYPE=text/html:<div><strong style="color: rgb(255\, 0\, 0)\; font-family: arial\; font-size: 14px\; caret-color: rgb(0\, 0\, 0)\; background-color: rgb(255\, 255\, 255)\;">LOCATION CHANGE to Chamber Office</strong><br />\n<span style="font-family:arial\;"><span style="font-size:14px\;">Join us to learn how to Use AI Safely\, Productively\, and Responsibly</span></span></div>\n\n<div><span style="font-family:arial\;"><span style="font-size:14px\;">AI is already changing how businesses operate.</span></span></div>\n\n<div><span style="font-family:arial\;"><span style="font-size:14px\;">The question isn&rsquo\;t whether you&rsquo\;ll use it. The question is whether you&rsquo\;ll use it wisely.</span></span></div>\n\n<div><span style="font-family:arial\;"><span style="font-size:14px\;">Join BytaGig for a practical\, hands-on executive workshop designed specifically for SMB leaders.&nbsp\;</span></span></div>\n\n<div>\n<div><span style="font-family:arial\;"><span style="font-size:14px\;"><strong>What You&rsquo\;ll Learn:</strong></span></span></div>\n\n<div><span style="font-family:arial\;"><span style="font-size:14px\;">&bull\; Increase productivity with AI tools</span></span></div>\n\n<div><span style="font-family:arial\;"><span style="font-size:14px\;">&bull\; Automate repetitive workflows safely</span></span></div>\n\n<div><span style="font-family:arial\;"><span style="font-size:14px\;">&bull\; Protect sensitive business data</span></span></div>\n\n<div><span style="font-family:arial\;"><span style="font-size:14px\;">&bull\; Avoid costly AI-related mistakes</span></span></div>\n\n<div><span style="font-family:arial\;"><span style="font-size:14px\;">&bull\; Build a simple AI usage policy</span></span></div>\n\n<div><span style="font-family:arial\;"><span style="font-size:14px\;">&bull\; Defend against AI-powered cyber threats</span></span></div>\n\n<div><span style="font-family:arial\;"><span style="font-size:14px\;"><strong>What You&rsquo\;ll Experience:</strong></span></span></div>\n\n<div><span style="font-family:arial\;"><span style="font-size:14px\;">&bull\; Live AI demonstrations and real SMB use cases</span></span></div>\n\n<div><span style="font-family:arial\;"><span style="font-size:14px\;">&bull\; Hands-on prompt training exercises</span></span></div>\n\n<div><span style="font-family:arial\;"><span style="font-size:14px\;">&bull\; Cybersecurity and compliance guidance</span></span></div>\n\n<div><span style="font-family:arial\;"><span style="font-size:14px\;">&bull\; AI governance and risk assessment framework</span></span></div>\n\n<div><span style="font-family:arial\;"><span style="font-size:14px\;">&bull\; A clear roadmap for safe AI adoption<br />\nAI brings opportunity. It also brings risk.<br />\nLearn how to modernize safely.<br />\n<br />\nPresented by BytaGig<br />\nTechnology Management &amp\; Cybersecurity Partner for SMBs</span></span></div>\n</div>\n
LOCATION:LOCATION CHANGE to Chamber Office 8305 SE Monterey Ave Ste 104 (office behind the stairs) Happy Valley OR 97086
UID:e.2445.13432
SEQUENCE:3
DTSTAMP:20260421T092909Z
URL:https://portal.yourchamber.com/events/details/ai-for-small-mid-sized-businesses-13432
END:VEVENT

END:VCALENDAR
