BEGIN:VCALENDAR
VERSION:2.0
PRODID:-//ChamberMaster//Event Calendar 2.0//EN
METHOD:PUBLISH
X-PUBLISHED-TTL:P3D
REFRESH-INTERVAL:P3D
CALSCALE:GREGORIAN
BEGIN:VEVENT
DTSTART:20251114T160000Z
DTEND:20251114T170000Z
X-MICROSOFT-CDO-ALLDAYEVENT:FALSE
SUMMARY:AM Business Connection - A Place at Home at Milwaukie Community Center
DESCRIPTION:Anyone can join us for this Friday morning networking event!\n\nGuests always welcome to visit twice.\n\nCasual networking at 7:30 with program starting at 8:00 AM.
X-ALT-DESC;FMTTYPE=text/html:Anyone can join us for this Friday morning networking event!<br />\nGuests always welcome to visit twice.<br />\nCasual networking at 7:30 with program starting at 8:00 AM.
LOCATION:Milwaukie Community Center 5440 SE Kellogg Creek Dr Milwaukie\, OR 97222
UID:e.2445.13324
SEQUENCE:3
DTSTAMP:20260421T081618Z
URL:https://portal.yourchamber.com/events/details/am-business-connection-a-place-at-home-at-milwaukie-community-center-13324
END:VEVENT

END:VCALENDAR
