BEGIN:VCALENDAR
VERSION:2.0
PRODID:-//ChamberMaster//Event Calendar 2.0//EN
METHOD:PUBLISH
X-PUBLISHED-TTL:P3D
REFRESH-INTERVAL:P3D
CALSCALE:GREGORIAN
BEGIN:VEVENT
DTSTART:20240308T160000Z
DTEND:20240308T170000Z
X-MICROSOFT-CDO-ALLDAYEVENT:FALSE
SUMMARY:AM Business Connection - Barbur Laskey at The Milwaukie Center
DESCRIPTION:Casual networking at 7:30AM with program starting at 8AM.\n\nGrowing the Chamber benefits all of us. Bring a potential new member and see Heather for your coffee gift card!
X-ALT-DESC;FMTTYPE=text/html:<span style="font-family:tahoma\;"><span style="font-size:14px\;">Casual networking at 7:30AM with program starting at 8AM.</span></span><br />\n<span style="color: rgb(0\, 0\, 0)\; font-family: arial\, sans-serif\; font-size: 14px\;">Growing the Chamber benefits all of us. Bring a potential new member and see Heather for your coffee gift card!</span>
LOCATION:5440 SE Kellogg Creek Dr Milwaukie\, OR 97222
UID:e.2445.10455
SEQUENCE:3
DTSTAMP:20260421T162058Z
URL:https://portal.yourchamber.com/events/details/am-business-connection-barbur-laskey-at-the-milwaukie-center-10455
END:VEVENT

END:VCALENDAR
