BEGIN:VCALENDAR
VERSION:2.0
PRODID:-//ChamberMaster//Event Calendar 2.0//EN
METHOD:PUBLISH
X-PUBLISHED-TTL:P3D
REFRESH-INTERVAL:P3D
CALSCALE:GREGORIAN
BEGIN:VEVENT
DTSTART:20260508T150000Z
DTEND:20260508T160000Z
X-MICROSOFT-CDO-ALLDAYEVENT:FALSE
SUMMARY:AM Business Connection - Family Values Magazine @ Sah-Hah-Lee
DESCRIPTION:Join us to network with other Chamber members! \n\nAll are welcome for Friday morning networking and fun!\n\nCasual networking at 7:30 with program starting at 8:00.\n\nBring a guest an get a coffee card!  Guests are always welcome to visit twice.
X-ALT-DESC;FMTTYPE=text/html:<span background-color:="" font-size:="" style="color: rgb(51\, 51\, 51)\; font-family: sans-serif\, Arial\, Verdana\, " trebuchet="">Join us to network with other Chamber members!&nbsp\;</span><br />\n<span background-color:="" font-size:="" style="color: rgb(51\, 51\, 51)\; font-family: sans-serif\, Arial\, Verdana\, " trebuchet="">All are welcome for Friday morning networking and fun!</span><br />\n<span style="color: rgb(8\, 8\, 9)\; font-family: &quot\;Segoe UI Historic&quot\;\, &quot\;Segoe UI&quot\;\, Helvetica\, Arial\, sans-serif\; font-size: 15px\;">Casual networking at 7:30 with program starting at 8:00.</span><br />\nBring a guest an get a coffee card!&nbsp\;&nbsp\;Guests are always welcome to visit twice.
LOCATION:
UID:e.2445.13423
SEQUENCE:3
DTSTAMP:20260420T195328Z
URL:https://portal.yourchamber.com/events/details/am-business-connection-family-values-magazine-sah-hah-lee-13423
END:VEVENT

END:VCALENDAR
