BEGIN:VCALENDAR
VERSION:2.0
PRODID:-//ChamberMaster//Event Calendar 2.0//EN
METHOD:PUBLISH
X-PUBLISHED-TTL:P3D
REFRESH-INTERVAL:P3D
CALSCALE:GREGORIAN
BEGIN:VEVENT
DTSTART:20251212T160000Z
DTEND:20251212T170000Z
X-MICROSOFT-CDO-ALLDAYEVENT:FALSE
SUMMARY:AM Business Connection - Glenmoore Gracious
DESCRIPTION:Casual networking at 7:30AM with program starting at 8AM.\n\nOverflow parking at Valley View Church.\n\n\n\nGrowing the Chamber benefits all of us. Bring a potential new member and see Heather for your coffee gift card! Guests are always welcome to visit twice.
X-ALT-DESC;FMTTYPE=text/html:<span style="font-family: tahoma\;"><span style="font-size: 14px\;">Casual networking at 7:30AM with program starting at 8AM.<br />\nOverflow parking at Valley View Church.</span></span><br />\n<br />\n<span style="color: rgb(0\, 0\, 0)\; font-family: arial\, sans-serif\; font-size: 14px\;">Growing the Chamber benefits all of us. Bring a potential new member and see Heather for your coffee gift card!&nbsp\;Guests are always welcome to visit twice.</span>
LOCATION:12154 SE 114th Ct Happy Valley\, OR 97086
UID:e.2445.13334
SEQUENCE:3
DTSTAMP:20260421T093813Z
URL:https://portal.yourchamber.com/events/details/am-business-connection-glenmoore-gracious-13334
END:VEVENT

END:VCALENDAR
