BEGIN:VCALENDAR
VERSION:2.0
PRODID:-//ChamberMaster//Event Calendar 2.0//EN
METHOD:PUBLISH
X-PUBLISHED-TTL:P3D
REFRESH-INTERVAL:P3D
CALSCALE:GREGORIAN
BEGIN:VEVENT
DTSTART:20250307T160000Z
DTEND:20250307T170000Z
X-MICROSOFT-CDO-ALLDAYEVENT:FALSE
SUMMARY:AM Business Connection - Ruzzo's Retreat
DESCRIPTION:Casual networking at 7:30AM with program starting at 8AM.\n\nGrowing the Chamber benefits all of us.\n\nBring a potential new member and see Heather for your coffee gift card! \n\nGuests are always welcome to visit twice.
X-ALT-DESC;FMTTYPE=text/html:<span style="font-family: tahoma\;"><span style="font-size: 14px\;">Casual networking at 7:30AM with program starting at 8AM.</span></span><br />\n<span style="color: rgb(0\, 0\, 0)\; font-family: arial\, sans-serif\; font-size: 14px\;">Growing the Chamber benefits all of us.<br />\nBring a potential new member and see Heather for your coffee gift card!&nbsp\;<br />\nGuests are always welcome to visit twice.</span>
LOCATION:15252 Hwy 224 Damascus OR 97089
UID:e.2445.12463
SEQUENCE:3
DTSTAMP:20260424T021252Z
URL:https://portal.yourchamber.com/events/details/am-business-connection-ruzzo-s-retreat-12463
END:VEVENT

END:VCALENDAR
