BEGIN:VCALENDAR
VERSION:2.0
PRODID:-//ChamberMaster//Event Calendar 2.0//EN
METHOD:PUBLISH
X-PUBLISHED-TTL:P3D
REFRESH-INTERVAL:P3D
CALSCALE:GREGORIAN
BEGIN:VEVENT
DTSTART:20250321T150000Z
DTEND:20250321T160000Z
X-MICROSOFT-CDO-ALLDAYEVENT:FALSE
SUMMARY:AM Business Connection - SBDC @ CCC Harmony Road Campus
DESCRIPTION:Casual networking at 7:30AM with program starting at 8AM.\n\nWe will be meeting in the Harmony West Community Room (Room 170/172) \n\nGrowing the Chamber benefits all of us. Bring a potential new member and see Heather for your coffee gift card! Guests are always welcome to visit twice.
X-ALT-DESC;FMTTYPE=text/html:<span style="font-family: tahoma\;"><span style="font-size: 14px\;">Casual networking at 7:30AM with program starting at 8AM.</span></span><br />\n<span style="font-family:calibri\,sans-serif\;"><span style="font-size:11.0pt\;">We will be meeting in the Harmony West Community Room (Room 170/172)&nbsp\;</span></span><br />\n<span style="color: rgb(0\, 0\, 0)\; font-family: arial\, sans-serif\; font-size: 14px\;">Growing the Chamber benefits all of us. Bring a potential new member and see Heather for your coffee gift card!&nbsp\;Guests are always welcome to visit twice.</span>
LOCATION:CCC Harmony Road Campus We will be meeting in the Harmony West Community Room (Room 170/172)
UID:e.2445.12467
SEQUENCE:3
DTSTAMP:20260424T021243Z
URL:https://portal.yourchamber.com/events/details/am-business-connection-sbdc-ccc-harmony-road-campus-12467
END:VEVENT

END:VCALENDAR
