BEGIN:VCALENDAR
VERSION:2.0
PRODID:-//ChamberMaster//Event Calendar 2.0//EN
METHOD:PUBLISH
X-PUBLISHED-TTL:P3D
REFRESH-INTERVAL:P3D
CALSCALE:GREGORIAN
BEGIN:VEVENT
DTSTART:20240209T160000Z
DTEND:20240209T170000Z
X-MICROSOFT-CDO-ALLDAYEVENT:FALSE
SUMMARY:AM Business Connection - The Aerie at Eagle Landing
DESCRIPTION:Casual networking at 7:30AM with program starting at 8AM.\n\nBring a guest an get a coffee card!
X-ALT-DESC;FMTTYPE=text/html:<span style="font-family:tahoma\;"><span style="font-size:14px\;">Casual networking at 7:30AM with program starting at 8AM.</span></span><br />\nBring a guest an get a coffee card!&nbsp\;
LOCATION:10220 SE Causey Ave Happy Valley\, OR 97086
UID:e.2445.10451
SEQUENCE:3
DTSTAMP:20260421T161559Z
URL:https://portal.yourchamber.com/events/details/am-business-connection-the-aerie-at-eagle-landing-10451
END:VEVENT

END:VCALENDAR
