BEGIN:VCALENDAR
VERSION:2.0
PRODID:-//ChamberMaster//Event Calendar 2.0//EN
METHOD:PUBLISH
X-PUBLISHED-TTL:P3D
REFRESH-INTERVAL:P3D
CALSCALE:GREGORIAN
BEGIN:VEVENT
DTSTART:20250402T013000Z
DTEND:20250402T030000Z
X-MICROSOFT-CDO-ALLDAYEVENT:FALSE
SUMMARY:BENEFIT SHOW for Rowe Middle School featuring Bridge City Improv
DESCRIPTION:This evening we bring together some of the metro region's best improv comedians for a fun\, family-friendly show  with all ticket proceeds going to benefit the PTA's Recreation Enhancement Initiative to build several ball courts at Rowe Middle School in Milwaukie.\n\nRowe is a busy school with a large number of students and somewhat limited facilities. Students frequently express such concerns and teachers and staff agree. With record enrollment and limits on staff size\, lunch breaks have become crowded. With limited recreational activities\, behavioral issues tend to increase as students get bored. This project consists of a durable asphalt pad large enough to encompass a number of games\, including a GaGa Ball pit\, tetherball\, and volleyball court!\n\nJoin us for an evening of unscripted entertainment where each performance is a unique experience. Whether you're a longtime improv fan or a first-timer\, this is a great choice for a fun night out  and for a great cause!\n\nThis night features:  Bill Cernansky\, Craig McCarthy\, Thomas Magee\, Kerry Leek\, Catherine Olson\, Erin Cunningham\, Lisa Brousseau\, Beau Brousseau.\n\n\n	Doors at 6pm.\n	All ages welcome.
X-ALT-DESC;FMTTYPE=text/html:<p>This evening we bring together some of the metro region&rsquo\;s best improv comedians for a fun\, family-friendly show&ndash\;&nbsp\;<strong>with all ticket proceeds going to benefit the PTA&rsquo\;s Recreation Enhancement Initiative to build several ball courts at Rowe Middle School in Milwaukie.</strong></p>\n\n<p>Rowe is a busy school with a large number of students and somewhat limited facilities. Students frequently express such concerns and teachers and staff agree. With record enrollment and limits on staff size\, lunch breaks have become crowded. With limited recreational activities\, behavioral issues tend to increase as students get bored. This project consists of a durable asphalt pad large enough to encompass a number of games\, including a GaGa Ball pit\, tetherball\, and volleyball court!</p>\n\n<p>Join us for an evening of unscripted entertainment where&nbsp\;each performance is a unique experience.&nbsp\;Whether you&rsquo\;re a longtime improv fan or a first-timer\, this is a great choice for a fun night out&ndash\; <strong><em>and for a great cause!</em></strong></p>\n\n<p>This night features: &nbsp\;Bill Cernansky\, Craig McCarthy\, Thomas Magee\, Kerry Leek\, Catherine Olson\, Erin Cunningham\, Lisa Brousseau\, Beau Brousseau.</p>\n\n<ul>\n	<li>Doors at 6pm.</li>\n	<li>All ages welcome.</li>\n</ul>\n
LOCATION:Chapel Theatre 4107 SE Harrison Street Milwaukie\, Oregon 97222
UID:e.2445.12632
SEQUENCE:3
DTSTAMP:20260424T035649Z
URL:https://portal.yourchamber.com/events/details/benefit-show-for-rowe-middle-school-featuring-bridge-city-improv-12632
END:VEVENT

END:VCALENDAR
