BEGIN:VCALENDAR
VERSION:2.0
PRODID:-//ChamberMaster//Event Calendar 2.0//EN
METHOD:PUBLISH
X-PUBLISHED-TTL:P3D
REFRESH-INTERVAL:P3D
CALSCALE:GREGORIAN
BEGIN:VEVENT
DTSTART:20250316T023000Z
DTEND:20250316T040000Z
X-MICROSOFT-CDO-ALLDAYEVENT:FALSE
SUMMARY:Bridge City Improv
DESCRIPTION:An evening of unscripted entertainment known for its rotating casts showcasing local notables. Fresh and unpredictable\, each performance is a unique experience. Whether you're a longtime improv fan or a first-timer\, this is a great choice for a fun night out.\n\n\n\nThis night features: Ryan King\, Anne Jones\, Jeff DeWan\, Bryan Fernando\, Pat Donaldson\, Shelley Darcy\, Stephanie Wichmann\, Lisa Brousseau\, Beau Brousseau.\n\n \n\nDoors at 7pm.\n\nBeer\, wine\, concessions.\n\nAll ages welcome\, though assume PG13 content.\n\nTIX $15 online until 5pm show date / $20 at door.
X-ALT-DESC;FMTTYPE=text/html:An evening of unscripted entertainment known for its rotating casts showcasing local notables. Fresh and unpredictable\, each performance is a unique experience. Whether you&rsquo\;re a longtime improv fan or a first-timer\, this is a great choice for a fun night out.<br />\n<br />\nThis night features: Ryan King\, Anne Jones\, Jeff DeWan\, Bryan Fernando\, Pat Donaldson\, Shelley Darcy\, Stephanie Wichmann\, Lisa Brousseau\, Beau Brousseau.<br />\n&nbsp\;<br />\nDoors at 7pm.<br />\nBeer\, wine\, concessions.<br />\nAll ages welcome\, though assume PG13 content.<br />\nTIX $15 online until 5pm show date / $20 at door.
LOCATION:Chapel Theatre\, Milwaukie
UID:e.2445.12492
SEQUENCE:3
DTSTAMP:20260424T021253Z
URL:https://portal.yourchamber.com/events/details/bridge-city-improv-03-15-2025-12492
END:VEVENT

END:VCALENDAR
