BEGIN:VCALENDAR
VERSION:2.0
PRODID:-//ChamberMaster//Event Calendar 2.0//EN
METHOD:PUBLISH
X-PUBLISHED-TTL:P3D
REFRESH-INTERVAL:P3D
CALSCALE:GREGORIAN
BEGIN:VEVENT
DTSTART:20250427T023000Z
DTEND:20250427T040000Z
X-MICROSOFT-CDO-ALLDAYEVENT:FALSE
SUMMARY:Bridge City Improv
DESCRIPTION:An evening of unscripted entertainment known for its rotating casts showcasing local improv faves. Fresh and unpredictable\, each performance is a unique experience. Whether you're a longtime fan of improv comedy or a first-timer\, this is a great choice for a fun night out.\n\nThis night features: Matt Tabora-Roberts\, Hanna Davis\, Merrily Antony\, Eric Stiverson\, Erin Cunningham\, Lisa Brousseau\, Beau Brousseau.\n\n\n	Doors at 7pm.\n	Beer\, wine\, concessions.\n	All ages welcome\, though assume PG13 content.\n	TIX $15 online until 5pm show date / $20 at door.
X-ALT-DESC;FMTTYPE=text/html:<p>An evening of unscripted entertainment known for its rotating casts showcasing local improv faves. Fresh and unpredictable\, each performance is a unique experience.&nbsp\;Whether you&rsquo\;re a longtime fan of improv comedy or a first-timer\, this is a great choice for a fun night out.</p>\n\n<p>This night features:&nbsp\;Matt Tabora-Roberts\, Hanna Davis\, Merrily Antony\, Eric Stiverson\, Erin Cunningham\, Lisa Brousseau\, Beau Brousseau.</p>\n\n<ul>\n	<li>Doors at 7pm.</li>\n	<li>Beer\, wine\, concessions.</li>\n	<li>All ages welcome\, though assume PG13 content.</li>\n	<li>TIX $15 online until 5pm show date / $20 at door.</li>\n</ul>\n
LOCATION:Chapel Theatre 4107 SE Harrison Street Milwaukie\, Oregon 97222
UID:e.2445.12647
SEQUENCE:3
DTSTAMP:20260424T040217Z
URL:https://portal.yourchamber.com/events/details/bridge-city-improv-04-26-2025-12647
END:VEVENT

END:VCALENDAR
