BEGIN:VCALENDAR
VERSION:2.0
PRODID:-//ChamberMaster//Event Calendar 2.0//EN
METHOD:PUBLISH
X-PUBLISHED-TTL:P3D
REFRESH-INTERVAL:P3D
CALSCALE:GREGORIAN
BEGIN:VEVENT
DTSTART:20251102T023000Z
DTEND:20251102T040000Z
X-MICROSOFT-CDO-ALLDAYEVENT:FALSE
SUMMARY:Bridge City Improv
DESCRIPTION:An evening of unscripted entertainment that's a one-of-a-kind experience unpredictable\, in-the-moment\, and impossible to repeat. We bring together some of the most talented improv performers from across the metro area and showcase the very best for YOU. Whether you're a seasoned improv lover or checking it out for the first time\, this is the perfect pick for a memorable night out.\n\nFeaturing: Stephanie Wichmann\, Laurie Martin\, Mariah Mu oz\, Brad Fortier\, Jennifer Hunter Tindle\, Jeff DeWan\, Erin Mahone\, Griffin Pahl\, Lisa Brousseau\, Beau Brousseau.\n\n\n	Doors at 7pm.\n	Beer\, wine\, concessions.\n	All ages welcome\, though assume PG13 content.\n	TIX $15 online until 5pm show date / $20 at door.
X-ALT-DESC;FMTTYPE=text/html:<p>An evening of unscripted entertainment that&rsquo\;s a one-of-a-kind experience&mdash\;unpredictable\, in-the-moment\, and impossible to repeat. We bring together some of the most talented improv performers from across the metro area and showcase the very best for <strong>YOU</strong>. Whether you&rsquo\;re a seasoned improv lover or checking it out for the first time\, this is the perfect pick for a memorable night out.</p>\n\n<p><strong>Featuring:</strong>&nbsp\;Stephanie Wichmann\, Laurie Martin\, Mariah Mu&ntilde\;oz\, Brad Fortier\, Jennifer Hunter Tindle\, Jeff DeWan\, Erin Mahone\, Griffin Pahl\, Lisa Brousseau\, Beau Brousseau.</p>\n\n<ul>\n	<li>Doors at 7pm.</li>\n	<li>Beer\, wine\, concessions.</li>\n	<li>All ages welcome\, though assume PG13 content.</li>\n	<li>TIX $15 online until 5pm show date / $20 at door.</li>\n</ul>\n
LOCATION:Chapel Theatre\, Milwaukie.
UID:e.2445.13358
SEQUENCE:3
DTSTAMP:20260421T105155Z
URL:https://portal.yourchamber.com/events/details/bridge-city-improv-11-01-2025-13358
END:VEVENT

END:VCALENDAR
