BEGIN:VCALENDAR
VERSION:2.0
PRODID:-//ChamberMaster//Event Calendar 2.0//EN
METHOD:PUBLISH
X-PUBLISHED-TTL:P3D
REFRESH-INTERVAL:P3D
CALSCALE:GREGORIAN
BEGIN:VEVENT
DTSTART:20260111T033000Z
DTEND:20260111T050000Z
X-MICROSOFT-CDO-ALLDAYEVENT:FALSE
SUMMARY:Bridge City Improv: WINTER SHOWCASE
DESCRIPTION:Improvised comedy & theater abounds throughout Bridge City with hilarious\, talented performers. On this weekend\, we've stacked two nights of unscripted entertainment that's in-the-moment and unpredictable\, highlighting six great groups  each with their own slant on this form we call improv.\n\nWhether you're a seasoned fan or checking it out for the first time\, join us for a memorable night out\, plus discount weekend passes are available!\n\nSEE TICKET LINK FOR FULL DETAILS AND SCHEDULE.\n\n \n\nDoors at 7pm.\n\nBeer\, wine\, concessions.\n\nAll ages welcome\, though assume PG13 content.\n\nTIX $15 online until 5pm show date / $20 at door.
X-ALT-DESC;FMTTYPE=text/html:<p style="box-sizing: border-box\; margin: 0px\; padding: 0px 0px 1em\; border: 0px\; outline: 0px\; font-size: 15px\; vertical-align: baseline\; background-image: none\; background-position: 0% 0%\; background-size: auto\; background-repeat: repeat\; background-attachment: scroll\; background-origin: padding-box\; background-clip: border-box\; caret-color: rgb(255\, 255\, 255)\; color: rgb(255\, 255\, 255)\; font-family: &quot\;Open Sans&quot\;\, Arial\, sans-serif\;"><span style="color:#000000">Improvised comedy &amp\; theater&nbsp\;abounds throughout Bridge City with hilarious\, talented performers. On this weekend\, we&rsquo\;ve stacked&nbsp\;two nights of unscripted entertainment that&rsquo\;s in-the-moment and&nbsp\;unpredictable\, highlighting&nbsp\;six&nbsp\;great&nbsp\;groups&mdash\;&nbsp\;each with their own slant on this form we call improv.</span></p>\n\n<p style="box-sizing: border-box\; margin: 0px\; padding: 0px 0px 1em\; border: 0px\; outline: 0px\; font-size: 15px\; vertical-align: baseline\; background-image: none\; background-position: 0% 0%\; background-size: auto\; background-repeat: repeat\; background-attachment: scroll\; background-origin: padding-box\; background-clip: border-box\; caret-color: rgb(255\, 255\, 255)\; color: rgb(255\, 255\, 255)\; font-family: &quot\;Open Sans&quot\;\, Arial\, sans-serif\;"><span style="color:#000000">Whether you&rsquo\;re a seasoned fan or checking it out for the first time\, join us for a memorable night out\, plus<strong style="background-attachment:scroll\; background-clip:border-box\; background-image:none\; background-origin:padding-box\; background-position:0% 0%\; background-repeat:repeat\; background-size:auto\; border:0px\; box-sizing:border-box\; margin:0px\; outline:0px\; padding:0px\; vertical-align:baseline">&nbsp\;<em>discount weekend passes are available!</em></strong></span></p>\n\n<p data-end="643" data-start="471" style="box-sizing: border-box\; margin: 0px\; padding: 0px 0px 1em\; border: 0px\; outline: 0px\; font-size: 15px\; vertical-align: baseline\; background-image: none\; background-position: 0% 0%\; background-size: auto\; background-repeat: repeat\; background-attachment: scroll\; background-origin: padding-box\; background-clip: border-box\; caret-color: rgb(255\, 255\, 255)\; color: rgb(255\, 255\, 255)\; font-family: &quot\;Open Sans&quot\;\, Arial\, sans-serif\;"><span style="color:#000000"><strong style="background-attachment:scroll\; background-clip:border-box\; background-image:none\; background-origin:padding-box\; background-position:0% 0%\; background-repeat:repeat\; background-size:auto\; border:0px\; box-sizing:border-box\; margin:0px\; outline:0px\; padding:0px\; vertical-align:baseline">SEE TICKET LINK FOR FULL DETAILS AND SCHEDULE.</strong></span></p>\n\n<p data-end="643" data-start="471" style="box-sizing: border-box\; margin: 0px\; padding: 0px\; border: 0px\; outline: 0px\; font-size: 15px\; vertical-align: baseline\; background-image: none\; background-position: 0% 0%\; background-size: auto\; background-repeat: repeat\; background-attachment: scroll\; background-origin: padding-box\; background-clip: border-box\; caret-color: rgb(255\, 255\, 255)\; color: rgb(255\, 255\, 255)\; font-family: &quot\;Open Sans&quot\;\, Arial\, sans-serif\;">&nbsp\;</p>\n\n<div style="box-sizing: border-box\; margin: 0px\; padding: 0px\; border: 0px\; outline: 0px\; vertical-align: baseline\; background-image: none\; background-position: 0% 0%\; background-size: auto\; background-repeat: repeat\; background-attachment: scroll\; background-origin: padding-box\; background-clip: border-box\;"><span style="color:#000000">Doors at 7pm.</span></div>\n\n<div style="box-sizing: border-box\; margin: 0px\; padding: 0px\; border: 0px\; outline: 0px\; vertical-align: baseline\; background-image: none\; background-position: 0% 0%\; background-size: auto\; background-repeat: repeat\; background-attachment: scroll\; background-origin: padding-box\; background-clip: border-box\;"><span style="color:#000000">Beer\, wine\, concessions.</span></div>\n\n<div style="box-sizing: border-box\; margin: 0px\; padding: 0px\; border: 0px\; outline: 0px\; vertical-align: baseline\; background-image: none\; background-position: 0% 0%\; background-size: auto\; background-repeat: repeat\; background-attachment: scroll\; background-origin: padding-box\; background-clip: border-box\;"><span style="color:#000000">All ages welcome\, though assume PG13 content.</span></div>\n\n<div style="box-sizing: border-box\; margin: 0px\; padding: 0px\; border: 0px\; outline: 0px\; vertical-align: baseline\; background-image: none\; background-position: 0% 0%\; background-size: auto\; background-repeat: repeat\; background-attachment: scroll\; background-origin: padding-box\; background-clip: border-box\;"><span style="color:#000000">TIX $15 online until 5pm show date / $20 at door.</span></div>\n
LOCATION:Chapel Theatre Milwaukie
UID:e.2445.13388
SEQUENCE:3
DTSTAMP:20260421T121655Z
URL:https://portal.yourchamber.com/events/details/bridge-city-improv-winter-showcase-01-10-2026-13388
END:VEVENT

END:VCALENDAR
