BEGIN:VCALENDAR
VERSION:2.0
PRODID:-//ChamberMaster//Event Calendar 2.0//EN
METHOD:PUBLISH
X-PUBLISHED-TTL:P3D
REFRESH-INTERVAL:P3D
CALSCALE:GREGORIAN
BEGIN:VEVENT
DTSTART:20251107T000000Z
DTEND:20251107T020000Z
X-MICROSOFT-CDO-ALLDAYEVENT:FALSE
SUMMARY:Business After Hours - Milwaukie Floors & More - Open House/8-Year Anniversary Celebration
DESCRIPTION:Join us for this 8-year Anniversary Celebration/Open House at Milwaukie Floors & More!
X-ALT-DESC;FMTTYPE=text/html:<span style="font-family:arial\;">Join us for this 8-year Anniversary Celebration/Open House at Milwaukie Floors &amp\; More!&nbsp\;</span><br />\n&nbsp\; &nbsp\;<br />\n<br />\n&nbsp\;
LOCATION:Milwaukie Floors & More 16025 SE McLoughlin Blvd Milwaukie\, OR 97267
UID:e.2445.13323
SEQUENCE:3
DTSTAMP:20260421T105504Z
URL:https://portal.yourchamber.com/events/details/business-after-hours-milwaukie-floors-more-open-house-8-year-anniversary-celebration-13323
END:VEVENT

END:VCALENDAR
