BEGIN:VCALENDAR
VERSION:2.0
PRODID:-//ChamberMaster//Event Calendar 2.0//EN
METHOD:PUBLISH
X-PUBLISHED-TTL:P3D
REFRESH-INTERVAL:P3D
CALSCALE:GREGORIAN
BEGIN:VEVENT
DTSTART:20250424T230000Z
DTEND:20250425T020000Z
X-MICROSOFT-CDO-ALLDAYEVENT:FALSE
SUMMARY:Business After Hours - Ruby Shade with Clackamas Women's Services
DESCRIPTION:After hours networking at Ruby Shade benefitting CWS!\n\nGuests always welcome.
X-ALT-DESC;FMTTYPE=text/html:<span style="color: rgb(8\, 8\, 9)\; font-family: &quot\;Segoe UI Historic&quot\;\, &quot\;Segoe UI&quot\;\, Helvetica\, Arial\, sans-serif\; font-size: 15px\;">After hours networking at Ruby Shade benefitting CWS!</span><br />\nGuests always welcome.<br />\n&nbsp\;
LOCATION:12040 SE Sunnyside Road Happy Valley\, OR 97086
UID:e.2445.12649
SEQUENCE:3
DTSTAMP:20260424T052000Z
URL:https://portal.yourchamber.com/events/details/business-after-hours-ruby-shade-with-clackamas-women-s-services-12649
END:VEVENT

END:VCALENDAR
