BEGIN:VCALENDAR
VERSION:2.0
PRODID:-//ChamberMaster//Event Calendar 2.0//EN
METHOD:PUBLISH
X-PUBLISHED-TTL:P3D
REFRESH-INTERVAL:P3D
CALSCALE:GREGORIAN
BEGIN:VEVENT
DTSTART:20260123T010000Z
DTEND:20260123T030000Z
X-MICROSOFT-CDO-ALLDAYEVENT:FALSE
SUMMARY:Business After Hours - Speed Networking at Ruzzo's!
DESCRIPTION:Join us for a Speed Networking Business After Hours at Ruzzo's Retreat!\n\nBring plenty of business cards and your best "elevator pitch"!\n\nConnect with local business owners in a fun and casual environment. Refreshments available for purchase. Bring a door prize to make an extra announcement.\n\nGrowing the Chamber benefits us all. Bring a guest an get a coffee card! Guests welcome to visit twice.
X-ALT-DESC;FMTTYPE=text/html:<div class="xdj266r x14z9mp xat24cr x1lziwak x1vvkbs" style="margin: 0px\; overflow-wrap: break-word\; font-family: &quot\;Segoe UI Historic&quot\;\, &quot\;Segoe UI&quot\;\, Helvetica\, Arial\, sans-serif\; color: rgb(8\, 8\, 9)\; font-size: 15px\;">Join us for a Speed Networking Business After Hours at Ruzzo&#39\;s Retreat!<br />\n<span style="box-sizing: border-box\; color: rgb(68\, 68\, 68)\; font-size: 14px\; letter-spacing: 0.5px\; font-family: aptos\, sans-serif\;"><span style="box-sizing: border-box\; font-size: 11pt\;">Bring plenty of business cards and your best &ldquo\;elevator pitch&rdquo\;!</span></span><br style="box-sizing: border-box\; color: rgb(68\, 68\, 68)\; font-family: PTSansRegular\, Arial\, Helvetica\, sans-serif\; font-size: 14px\; letter-spacing: 0.5px\;" />\nConnect with local business owners&nbsp\;in a fun and casual environment. Refreshments available for purchase. Bring a door prize to make an extra announcement.<br />\n<span style="color: rgb(68\, 68\, 68)\; font-family: PTSansRegular\, Arial\, Helvetica\, sans-serif\; font-size: 14px\; letter-spacing: 0.5px\;">Growing the Chamber benefits us all. Bring a guest an get a coffee card! Guests welcome to visit twice.</span></div>\n
LOCATION:Ruzzo's Retreat (greenhouse) 15252 OR-224 Suite A Damascus\, OR 97089
UID:e.2445.13382
SEQUENCE:3
DTSTAMP:20260421T115056Z
URL:https://portal.yourchamber.com/events/details/business-after-hours-speed-networking-at-ruzzo-s-13382
END:VEVENT

END:VCALENDAR
