BEGIN:VCALENDAR
VERSION:2.0
PRODID:-//ChamberMaster//Event Calendar 2.0//EN
METHOD:PUBLISH
X-PUBLISHED-TTL:P3D
REFRESH-INTERVAL:P3D
CALSCALE:GREGORIAN
BEGIN:VEVENT
DTSTART:20190521T153000Z
DTEND:20190521T170000Z
X-MICROSOFT-CDO-ALLDAYEVENT:FALSE
SUMMARY:Business Education Series: Financial Planning
DESCRIPTION:Learn the elements of a sole proprietorship\, LLC's\, and Sub-chapter S corporations and the attributes and the financial elements of each business structure - especially how each structure is taxed. This workshop will teach you strategies to help you keep more of your hard earned money. Diana Tourney will be the presenter for this session.\n\nRegistration required.
X-ALT-DESC;FMTTYPE=text/html:Learn the elements of a sole proprietorship\, LLC&rsquo\;s\, and Sub-chapter S corporations and the attributes and the financial elements of each business structure - especially how each structure is taxed. This workshop will teach you strategies to help you keep more of your hard earned money. Diana Tourney will be the presenter for this session.<br />\nRegistration required.
LOCATION:Small Business Development Center CCC Harmony West Room 130 7726 SE Harmony Rd Milwaukie\, OR 97222
UID:e.2445.6595
SEQUENCE:3
DTSTAMP:20260422T054722Z
URL:https://portal.yourchamber.com/events/details/business-education-series-financial-planning-6595
END:VEVENT

END:VCALENDAR
