BEGIN:VCALENDAR
VERSION:2.0
PRODID:-//ChamberMaster//Event Calendar 2.0//EN
METHOD:PUBLISH
X-PUBLISHED-TTL:P3D
REFRESH-INTERVAL:P3D
CALSCALE:GREGORIAN
BEGIN:VEVENT
DTSTART:20260130T170000Z
DTEND:20260130T183000Z
X-MICROSOFT-CDO-ALLDAYEVENT:FALSE
SUMMARY:Clackamas Community College: State of the College Address
DESCRIPTION:Please join us in person or online as CCC President Tim Cook shares the college's milestones\, innovations\, and opportunities as well as how to support higher education and student success.\n\n \n\nDate: Friday\, Jan. 30\n\n\n\nTime:\n\n8:30-9 a.m.   Come early for a cup of coffee and view student work in the lobby of Roger Rook Hall\n\n9-10-30 a.m.   State of the College address\n\n\n\nLocation:\n\n                Oregon City campus\, Roger Rook Hall\, room 111A/B\, 19600 Molalla Ave.\, Oregon City\, OR 97045\n\n                                Parking is free and the Orange Lot is the closest parking lot.\n\n                Zoom: https://clackamas.zoom.us/j/5035943309?omn=94665679253\n\n \n\nPlease RSVP to lori.hall@clackamas.edu so we can be on the lookout for you at the event. Happy New Year!
X-ALT-DESC;FMTTYPE=text/html:Please join us in person or online as CCC President Tim Cook shares the college&rsquo\;s milestones\, innovations\, and opportunities as well as how to support higher education and student success.<br />\n&nbsp\;<br />\n<strong>Date:</strong>&nbsp\;Friday\, Jan. 30<br />\n<br />\n<strong>Time:</strong><br />\n8:30-9 a.m. &ndash\; Come early for a cup of coffee and view student work in the lobby of Roger Rook Hall<br />\n9-10-30 a.m. &ndash\; State of the College address<br />\n<br />\n<strong>Location:</strong><br />\n&nbsp\;&nbsp\;&nbsp\;&nbsp\;&nbsp\;&nbsp\;&nbsp\;&nbsp\;&nbsp\;&nbsp\;&nbsp\;&nbsp\;&nbsp\;&nbsp\;&nbsp\; <a href="https://nam10.safelinks.protection.outlook.com/?url=https%3A%2F%2Fwww.google.com%2Fmaps%2Fplace%2FClackamas%2BCommunity%2BCollege%2F%4045.3229745%2C-122.5764956%2C17z%2Fdata%3D!3m1!4b1!4m5!3m4!1s0x549570b14c0046b3%3A0x49606af54bc35b11!8m2!3d45.3229707!4d-122.5743069&amp\;data=05%7C02%7Cjulie.hugo%40clackamas.edu%7C21e9eaa04b134c9ec88d08de4d54567d%7Caa23b0aae6b74c00acd5ce9b9a49662a%7C0%7C0%7C639033221786324476%7CUnknown%7CTWFpbGZsb3d8eyJFbXB0eU1hcGkiOnRydWUsIlYiOiIwLjAuMDAwMCIsIlAiOiJXaW4zMiIsIkFOIjoiTWFpbCIsIldUIjoyfQ%3D%3D%7C0%7C%7C%7C&amp\;sdata=lvDbRkQMVFx5%2BpuPYSvUEgx8P09M%2BUwZvUOjLh0beUk%3D&amp\;reserved=0">Oregon City campus</a>\, Roger Rook Hall\, room 111A/B\, 19600 Molalla Ave.\, Oregon City\, OR 97045<br />\n&nbsp\;&nbsp\;&nbsp\;&nbsp\;&nbsp\;&nbsp\;&nbsp\;&nbsp\;&nbsp\;&nbsp\;&nbsp\;&nbsp\;&nbsp\;&nbsp\;&nbsp\;&nbsp\;&nbsp\;&nbsp\;&nbsp\;&nbsp\;&nbsp\;&nbsp\;&nbsp\;&nbsp\;&nbsp\;&nbsp\;&nbsp\;&nbsp\;&nbsp\;&nbsp\;&nbsp\; Parking is free and the <a href="https://nam10.safelinks.protection.outlook.com/?url=https%3A%2F%2Fwww.clackamas.edu%2Fdocs%2Fdefault-source%2Fmaps%2Fmap_oregoncity.pdf%3Fsfvrsn%3Dd882b568_26&amp\;data=05%7C02%7Cjulie.hugo%40clackamas.edu%7C21e9eaa04b134c9ec88d08de4d54567d%7Caa23b0aae6b74c00acd5ce9b9a49662a%7C0%7C0%7C639033221786349629%7CUnknown%7CTWFpbGZsb3d8eyJFbXB0eU1hcGkiOnRydWUsIlYiOiIwLjAuMDAwMCIsIlAiOiJXaW4zMiIsIkFOIjoiTWFpbCIsIldUIjoyfQ%3D%3D%7C0%7C%7C%7C&amp\;sdata=%2F3ZJgZHiuJt4gACdp55Gn0NA1dAR75XmeRMggb4VVK4%3D&amp\;reserved=0">Orange Lot</a> is the closest parking lot.<br />\n&nbsp\;&nbsp\;&nbsp\;&nbsp\;&nbsp\;&nbsp\;&nbsp\;&nbsp\;&nbsp\;&nbsp\;&nbsp\;&nbsp\;&nbsp\;&nbsp\;&nbsp\; Zoom: <a href="https://nam10.safelinks.protection.outlook.com/?url=https%3A%2F%2Fclackamas.zoom.us%2Fj%2F5035943309%3Fomn%3D94665679253&amp\;data=05%7C02%7Cjulie.hugo%40clackamas.edu%7C21e9eaa04b134c9ec88d08de4d54567d%7Caa23b0aae6b74c00acd5ce9b9a49662a%7C0%7C0%7C639033221786370501%7CUnknown%7CTWFpbGZsb3d8eyJFbXB0eU1hcGkiOnRydWUsIlYiOiIwLjAuMDAwMCIsIlAiOiJXaW4zMiIsIkFOIjoiTWFpbCIsIldUIjoyfQ%3D%3D%7C0%7C%7C%7C&amp\;sdata=IEVrs7MJwzodCssQw%2FarBTQzN%2B0nvw0%2FoBOsBmg2Lis%3D&amp\;reserved=0" title="https://clackamas.zoom.us/j/5035943309?omn=94665679253">https://clackamas.zoom.us/j/5035943309?omn=94665679253</a><br />\n&nbsp\;<br />\nPlease RSVP to <a href="mailto:lori.hall@clackamas.edu">lori.hall@clackamas.edu</a> so we can be on the lookout for you at the event. Happy New Year!
LOCATION:Oregon City campus\, Roger Rook Hall\, room 111A/B\, 19600 Molalla Ave.\, Oregon City\, OR 97045 Parking is free and the Orange Lot is the closest parking lot.
UID:e.2445.13401
SEQUENCE:3
DTSTAMP:20260421T115346Z
URL:https://portal.yourchamber.com/events/details/clackamas-community-college-state-of-the-college-address-13401
END:VEVENT

END:VCALENDAR
