BEGIN:VCALENDAR
VERSION:2.0
PRODID:-//ChamberMaster//Event Calendar 2.0//EN
METHOD:PUBLISH
X-PUBLISHED-TTL:P3D
REFRESH-INTERVAL:P3D
CALSCALE:GREGORIAN
BEGIN:VEVENT
DTSTART:20260502T160000Z
DTEND:20260502T190000Z
X-MICROSOFT-CDO-ALLDAYEVENT:FALSE
SUMMARY:COMMUNITY SHRED EVENT
DESCRIPTION:Sensitive documents piling up? Don't let identity theft be a worry. At NW Nest Real Estate\, we're committed to helping our Happy Valley and Clackamas neighbors stay secure both in their homes and with their personal information. We're hosting a FREE Community Shred Event\, and you're invited! Bring your old tax returns\, bank statements\, and any sensitive paperwork for professional\, on-site destruction.\n\nEnjoy complimentary refreshments! \n\nCome for the shredding\, stay for a quick "hello" with Justin and Gregg! We'll be on-site to answer any quick real estate questions or just to chat about what's happening in our local neighborhoods.
X-ALT-DESC;FMTTYPE=text/html:Sensitive documents piling up? Don&rsquo\;t let identity theft be a worry. At NW Nest Real Estate\, we&rsquo\;re committed to helping our Happy Valley and Clackamas neighbors stay secure&mdash\;both in their homes and with their personal information. We&rsquo\;re hosting a FREE Community Shred Event\, and you&rsquo\;re invited! Bring your old tax returns\, bank statements\, and any sensitive paperwork for professional\, on-site destruction.<br />\nEnjoy complimentary refreshments!&nbsp\;<br />\nCome for the shredding\, stay for a quick &quot\;hello&quot\; with Justin and Gregg! We&rsquo\;ll be on-site to answer any quick real estate questions or just to chat about what&#39\;s happening in our local neighborhoods.
LOCATION:Two Town Center 10135 SE Sunnyside Blvd Clackamas
UID:e.2445.13484
SEQUENCE:3
DTSTAMP:20260421T085714Z
URL:https://portal.yourchamber.com/events/details/community-shred-event-13484
END:VEVENT

END:VCALENDAR
