BEGIN:VCALENDAR
VERSION:2.0
PRODID:-//ChamberMaster//Event Calendar 2.0//EN
METHOD:PUBLISH
X-PUBLISHED-TTL:P3D
REFRESH-INTERVAL:P3D
CALSCALE:GREGORIAN
BEGIN:VEVENT
DTSTART:20160910T170000Z
DTEND:20160910T190000Z
X-MICROSOFT-CDO-ALLDAYEVENT:FALSE
SUMMARY:Creative Minds Learning Centers Open House and Job Fair
DESCRIPTION:Creative Minds Learning Center is hosting an Open House and Job Fair at our Happy Valley location! CMLC has been offering exceptional child care for Infants through Private Kindergarten since 1997. Programs offered are: Reggio Inspired Art Program\, Creative Curriculum\, Healthy\, organic Dairy and meat free meals\, media free creative environments\, Creative Outlets 4 Kids and last but not least\, Professional\, Love and Logic trained teachers. Please come by if you have child care needs or love working with babies and young children!\n\n\n\nOur Schools are growing! Creative Minds is NOW HIRING highly qualified and educated Teachers and floaters. If you have a passion for working with babies and young children\, please come to our Job Fair! We are looking forward to meeting you!\n\n\n\nCreative Minds Offers Our Teachers: \n\nCompetitive Sign On Bonus! (depending on position and experience)\n\nQuality Health Benefit Program including Medical\, Dental\, Vision\n\nCompetitive Wage\n\nGenerous Childcare Discount\n\n401K Program with Employer Match \n\nPaid Sick and Vacation Time\n\nPaid Continued Education and Staff Development Trainings\n\nPaid Classroom and Curriculum Materials\n\nPaid Staff Activities and Events \n\nLove and Logic Certification and Training at an exclusive\, CMLC discounted rate\n\nParent/Family community events\, volunteers and involvement\n\nA supportive team environment\n\nGrowth Opportunities\n\n\n\nQualified Teacher Requirements: \n\nRegistered with the Oregon Registry \n\n*Current Child and Infant First Aid and CPR Certificate \n\n*Current Food Handlers Card \n\n*Recognizing and Reporting Child Abuse and Neglect Training Certificate \n\n*Qualifications Required within 30 days of hire \n\n\n\nClassroom Aide Requirements: (Part Time or Full Time) \n\nRegistered with the OR Registry \n\n*Current Food Handlers Card \n\n*Current Infant and Child CPR and First Aid certification \n\n*Qualifications Required within 30 days of hire\n\n\n\n\n\nCome see the difference that Creative Minds Larning Center can offer you and your family! Visit our webtiste at www.MyCMLC.com or call (503) 252-0004 ext. 0 for more information!
X-ALT-DESC;FMTTYPE=text/html:<span style="color:rgb(68\, 68\, 68)\; font-family:ubuntu\,arial\,helvetica\,sans-serif\; font-size:16px"><span style="color:inherit\; font-family:arial\,helvetica\,sans-serif\; font-size:inherit"><span style="color:rgb(34\, 34\, 34)\; font-family:inherit\; font-size:inherit">Creative Minds Learning Center is hosting an Open House and Job Fair at our Happy Valley location! CMLC has been offering exceptional child care for Infants through Private Kindergarten since 1997. Programs offered are: Reggio Inspired Art Program\, Creative Curriculum\, Healthy\, organic Dairy and meat free meals\, media free creative environments\, Creative Outlets 4 Kids and last but not least\, Professional\, Love and Logic trained teachers. Please come by if you have child care needs or love working with babies and young children!</span><br />\n<br />\n<span style="color:rgb(34\, 34\, 34)\; font-family:inherit\; font-size:inherit">Our Schools are growing! Creative Minds is NOW HIRING highly qualified and educated Teachers and floaters. If you have a passion for working with babies and young children\, please come to our Job Fair! We are looking forward to meeting you!<br />\n<br />\nCreative Minds Offers Our Teachers:&nbsp\;</span><br />\n<span style="color:rgb(34\, 34\, 34)\; font-family:inherit\; font-size:inherit">Competitive Sign On Bonus! (depending on position and experience)</span><br />\n<span style="color:rgb(34\, 34\, 34)\; font-family:inherit\; font-size:inherit">Quality Health Benefit Program including Medical\, Dental\, Vision</span><br />\n<span style="color:rgb(34\, 34\, 34)\; font-family:inherit\; font-size:inherit">Competitive Wage</span><br />\n<span style="color:rgb(34\, 34\, 34)\; font-family:inherit\; font-size:inherit">Generous Childcare Discount</span><br />\n<span style="color:rgb(34\, 34\, 34)\; font-family:inherit\; font-size:inherit">401K Program with Employer Match&nbsp\;</span><br />\n<span style="color:rgb(34\, 34\, 34)\; font-family:inherit\; font-size:inherit">Paid Sick and Vacation Time</span><br />\n<span style="color:rgb(34\, 34\, 34)\; font-family:inherit\; font-size:inherit">Paid Continued Education and Staff Development Trainings</span><br />\n<span style="color:rgb(34\, 34\, 34)\; font-family:inherit\; font-size:inherit">Paid Classroom and Curriculum Materials</span><br />\n<span style="color:rgb(34\, 34\, 34)\; font-family:inherit\; font-size:inherit">Paid Staff Activities and Events&nbsp\;</span><br />\n<span style="color:rgb(34\, 34\, 34)\; font-family:inherit\; font-size:inherit">Love and Logic Certification and Training at an exclusive\, CMLC discounted rate</span><br />\n<span style="color:rgb(34\, 34\, 34)\; font-family:inherit\; font-size:inherit">Parent/Family community events\, volunteers and involvement</span><br />\n<span style="color:rgb(34\, 34\, 34)\; font-family:inherit\; font-size:inherit">A supportive team environment</span><br />\n<span style="color:rgb(34\, 34\, 34)\; font-family:inherit\; font-size:inherit">Growth Opportunities</span><br />\n<br />\n<span style="color:rgb(34\, 34\, 34)\; font-family:inherit\; font-size:inherit">Qualified Teacher Requirements:&nbsp\;</span><br />\n<span style="color:rgb(34\, 34\, 34)\; font-family:inherit\; font-size:inherit">Registered with the Oregon Registry&nbsp\;</span><br />\n<span style="color:rgb(34\, 34\, 34)\; font-family:inherit\; font-size:inherit">*Current Child and Infant First Aid and CPR Certificate&nbsp\;</span><br />\n<span style="color:rgb(34\, 34\, 34)\; font-family:inherit\; font-size:inherit">*Current Food Handlers Card&nbsp\;</span><br />\n<span style="color:rgb(34\, 34\, 34)\; font-family:inherit\; font-size:inherit">*Recognizing and Reporting Child Abuse and Neglect Training Certificate&nbsp\;</span><br />\n<span style="color:rgb(34\, 34\, 34)\; font-family:inherit\; font-size:inherit">*Qualifications Required within 30 days of hire&nbsp\;</span><br />\n<br />\n<span style="color:rgb(34\, 34\, 34)\; font-family:inherit\; font-size:inherit">Classroom Aide Requirements: (Part Time or Full Time)&nbsp\;</span><br />\n<span style="color:rgb(34\, 34\, 34)\; font-family:inherit\; font-size:inherit">Registered with the OR Registry&nbsp\;</span><br />\n<span style="color:rgb(34\, 34\, 34)\; font-family:inherit\; font-size:inherit">*Current Food Handlers Card&nbsp\;</span><br />\n<span style="color:rgb(34\, 34\, 34)\; font-family:inherit\; font-size:inherit">*Current Infant and Child CPR and First Aid certification&nbsp\;</span><br />\n<span style="color:rgb(34\, 34\, 34)\; font-family:inherit\; font-size:inherit">*Qualifications Required within 30 days of hire</span></span></span><br />\n<br />\n<br />\n<span style="color:rgb(68\, 68\, 68)\; font-family:comic sans ms\; font-size:14px"><span style="color:rgb(34\, 34\, 34)\; font-family:inherit\; font-size:medium"><span style="color:inherit\; font-family:arial\,helvetica\,sans-serif\; font-size:inherit">Come see the difference that Creative Minds Larning Center can offer you and your family! Visit our webtiste at www.MyCMLC.com or call (503) 252-0004 ext. 0 for more information!</span></span></span>
LOCATION:Creative Minds Learning Center Happy Valley School 12771 SE Sunnyside Rd\, Clackamas\, OR 97015
UID:e.2445.3449
SEQUENCE:3
DTSTAMP:20260424T085243Z
URL:https://portal.yourchamber.com/events/details/creative-minds-learning-centers-open-house-and-job-fair-3449
END:VEVENT

END:VCALENDAR
