BEGIN:VCALENDAR
VERSION:2.0
PRODID:-//ChamberMaster//Event Calendar 2.0//EN
METHOD:PUBLISH
X-PUBLISHED-TTL:P3D
REFRESH-INTERVAL:P3D
CALSCALE:GREGORIAN
BEGIN:VEVENT
DTSTART:20250430T170000Z
DTEND:20250501T060000Z
X-MICROSOFT-CDO-ALLDAYEVENT:FALSE
SUMMARY:Cybersecurity for Nonprofits: Safeguard Donors & Data Without Draining Funds
DESCRIPTION:Nonprofits handle sensitive donor data but many are operating without basic cybersecurity protections. Cybercriminals know this\, and the risks are growing.\n\n\n\n?? Join us for our FREE webinar:\n\n"Cybersecurity for Nonprofits: Safeguard Donors & Data Without Draining Funds"\n\n??? April 30th | 10AM PST\n\n\n\n?? Plus\, we're giving away a pair of Beats Buds and two $25 Crumbl Cookie gift cards to live attendees!\n\n\n\nRegister here ?? https://lnkd.in/guDhf_DQ\n\n\n\n?? Giveaway Rules: Must be an employee of a nonprofit\, be present at the time of the drawing\, and have a U.S. shipping address. Don't miss out secure your spot today!
X-ALT-DESC;FMTTYPE=text/html:<span style="background-color:rgb(255\, 255\, 255)\; color:rgba(0\, 0\, 0\, 0.9)\; font-family:-apple-system\,system-ui\,blinkmacsystemfont\,segoe ui\,roboto\,helvetica neue\,fira sans\,ubuntu\,oxygen\,oxygen sans\,cantarell\,droid sans\,apple color emoji\,segoe ui emoji\,segoe ui emoji\,segoe ui symbol\,lucida grande\,helvetica\,arial\,sans-serif\; font-size:14px">Nonprofits handle sensitive donor data&mdash\;but many are operating without basic cybersecurity protections. Cybercriminals know this\, and the risks are growing.</span><br />\n<br />\n<span style="background-color:rgb(255\, 255\, 255)\; color:rgba(0\, 0\, 0\, 0.9)\; font-family:-apple-system\,system-ui\,blinkmacsystemfont\,segoe ui\,roboto\,helvetica neue\,fira sans\,ubuntu\,oxygen\,oxygen sans\,cantarell\,droid sans\,apple color emoji\,segoe ui emoji\,segoe ui emoji\,segoe ui symbol\,lucida grande\,helvetica\,arial\,sans-serif\; font-size:14px">?? Join us for our FREE webinar:</span><br />\n<span style="background-color:rgb(255\, 255\, 255)\; color:rgba(0\, 0\, 0\, 0.9)\; font-family:-apple-system\,system-ui\,blinkmacsystemfont\,segoe ui\,roboto\,helvetica neue\,fira sans\,ubuntu\,oxygen\,oxygen sans\,cantarell\,droid sans\,apple color emoji\,segoe ui emoji\,segoe ui emoji\,segoe ui symbol\,lucida grande\,helvetica\,arial\,sans-serif\; font-size:14px">&quot\;Cybersecurity for Nonprofits: Safeguard Donors &amp\; Data Without Draining Funds&quot\;</span><br />\n<span style="background-color:rgb(255\, 255\, 255)\; color:rgba(0\, 0\, 0\, 0.9)\; font-family:-apple-system\,system-ui\,blinkmacsystemfont\,segoe ui\,roboto\,helvetica neue\,fira sans\,ubuntu\,oxygen\,oxygen sans\,cantarell\,droid sans\,apple color emoji\,segoe ui emoji\,segoe ui emoji\,segoe ui symbol\,lucida grande\,helvetica\,arial\,sans-serif\; font-size:14px">??? April 30th | 10AM PST</span><br />\n<br />\n<span style="background-color:rgb(255\, 255\, 255)\; color:rgba(0\, 0\, 0\, 0.9)\; font-family:-apple-system\,system-ui\,blinkmacsystemfont\,segoe ui\,roboto\,helvetica neue\,fira sans\,ubuntu\,oxygen\,oxygen sans\,cantarell\,droid sans\,apple color emoji\,segoe ui emoji\,segoe ui emoji\,segoe ui symbol\,lucida grande\,helvetica\,arial\,sans-serif\; font-size:14px">?? Plus\, we&rsquo\;re giving away a pair of Beats Buds and two $25 Crumbl Cookie gift cards to live attendees!</span><br />\n<br />\n<span style="background-color:rgb(255\, 255\, 255)\; color:rgba(0\, 0\, 0\, 0.9)\; font-family:-apple-system\,system-ui\,blinkmacsystemfont\,segoe ui\,roboto\,helvetica neue\,fira sans\,ubuntu\,oxygen\,oxygen sans\,cantarell\,droid sans\,apple color emoji\,segoe ui emoji\,segoe ui emoji\,segoe ui symbol\,lucida grande\,helvetica\,arial\,sans-serif\; font-size:14px">Register here ??</span><span style="color:rgba(0\, 0\, 0\, 0.9)\; font-family:-apple-system\,system-ui\,blinkmacsystemfont\,segoe ui\,roboto\,helvetica neue\,fira sans\,ubuntu\,oxygen\,oxygen sans\,cantarell\,droid sans\,apple color emoji\,segoe ui emoji\,segoe ui emoji\,segoe ui symbol\,lucida grande\,helvetica\,arial\,sans-serif\; font-size:14px"> </span><a class="JfQWFCeQjMXQDVSMwMGKHIHLKZfgSeTo " href="https://lnkd.in/guDhf_DQ" style="box-sizing: inherit\; margin: 0px\; padding: 0px\; font-size: 14px\; vertical-align: baseline\; background: none 0% 0% / auto repeat scroll padding-box border-box rgb(255\, 255\, 255)\; text-decoration-line: none\; text-decoration-style: solid\; text-decoration-color: rgb(10\, 102\, 194)\; font-weight: 600\; border-color: rgb(10\, 102\, 194)\; border-style: none\; border-width: 0px\; border-image: none 100% / 1 / 0 stretch\; color: rgb(10\, 102\, 194)\; font-family: -apple-system\, system-ui\, BlinkMacSystemFont\, &quot\;Segoe UI&quot\;\, Roboto\, &quot\;Helvetica Neue&quot\;\, &quot\;Fira Sans&quot\;\, Ubuntu\, Oxygen\, &quot\;Oxygen Sans&quot\;\, Cantarell\, &quot\;Droid Sans&quot\;\, &quot\;Apple Color Emoji&quot\;\, &quot\;Segoe UI Emoji&quot\;\, &quot\;Segoe UI Emoji&quot\;\, &quot\;Segoe UI Symbol&quot\;\, &quot\;Lucida Grande&quot\;\, Helvetica\, Arial\, sans-serif\; touch-action: manipulation\; position: relative\; word-break: normal\; overflow-wrap: normal\; line-height: inherit !important\;" tabindex="0" target="_self">https://lnkd.in/guDhf_DQ</a><br />\n<br />\n<span style="background-color:rgb(255\, 255\, 255)\; color:rgba(0\, 0\, 0\, 0.9)\; font-family:-apple-system\,system-ui\,blinkmacsystemfont\,segoe ui\,roboto\,helvetica neue\,fira sans\,ubuntu\,oxygen\,oxygen sans\,cantarell\,droid sans\,apple color emoji\,segoe ui emoji\,segoe ui emoji\,segoe ui symbol\,lucida grande\,helvetica\,arial\,sans-serif\; font-size:14px">?? Giveaway Rules:&nbsp\;Must be an employee of a nonprofit\, be present at the time of the drawing\, and have a U.S. shipping address. Don&rsquo\;t miss out&mdash\;secure your spot today!</span><span style="color:rgba(0\, 0\, 0\, 0.9)\; font-family:-apple-system\,system-ui\,blinkmacsystemfont\,segoe ui\,roboto\,helvetica neue\,fira sans\,ubuntu\,oxygen\,oxygen sans\,cantarell\,droid sans\,apple color emoji\,segoe ui emoji\,segoe ui emoji\,segoe ui symbol\,lucida grande\,helvetica\,arial\,sans-serif\; font-size:14px"> </span>
LOCATION:LinkedIn Live
UID:e.2445.12796
SEQUENCE:3
DTSTAMP:20260424T051832Z
URL:https://portal.yourchamber.com/events/details/cybersecurity-for-nonprofits-safeguard-donors-data-without-draining-funds-12796
END:VEVENT

END:VCALENDAR
