BEGIN:VCALENDAR
VERSION:2.0
PRODID:-//ChamberMaster//Event Calendar 2.0//EN
METHOD:PUBLISH
X-PUBLISHED-TTL:P3D
REFRESH-INTERVAL:P3D
CALSCALE:GREGORIAN
BEGIN:VEVENT
DTSTART:20150404T200000Z
DTEND:20150404T223000Z
X-MICROSOFT-CDO-ALLDAYEVENT:FALSE
SUMMARY:Easter Eggstravaganza
DESCRIPTION:Christian Family Adoptions and Eagle Landing Golf Course present a fun-filled\, family friendly afternoon of:\n -Egg hunting (4 age-specific hunts all begin at 2:00pm)\n -Mini Golf\n -Soccer Golf\n -Fire truck display\n -Face painting\n -Craft corner\n -Raffle prizes (drawing at 3:00pm)\n -Meet & greet with the Easter Bunny\n\nOnly $3 per person\n\nAll proceeds will directly benefit Christian Family Adoptions\, which has been placing children in loving\, adoptive families since 1958.
X-ALT-DESC;FMTTYPE=text/html:Christian Family Adoptions and Eagle Landing Golf Course present a fun-filled\, family friendly afternoon of:\n -Egg hunting (4 age-specific hunts all begin at 2:00pm)\n -Mini Golf\n -Soccer Golf\n -Fire truck display\n -Face painting\n -Craft corner\n -Raffle prizes (drawing at 3:00pm)\n -Meet & greet with the Easter Bunny\n\nOnly $3 per person\n\nAll proceeds will directly benefit Christian Family Adoptions\, which has been placing children in loving\, adoptive families since 1958.
LOCATION:10220 SE Causey Ave\, Happy Valley\, OR 97086
UID:e.2445.1742
SEQUENCE:3
DTSTAMP:20260422T111525Z
URL:https://portal.yourchamber.com/events/details/easter-eggstravaganza-04-04-2015-1742
END:VEVENT

END:VCALENDAR
