BEGIN:VCALENDAR
VERSION:2.0
PRODID:-//ChamberMaster//Event Calendar 2.0//EN
METHOD:PUBLISH
X-PUBLISHED-TTL:P3D
REFRESH-INTERVAL:P3D
CALSCALE:GREGORIAN
BEGIN:VEVENT
DTSTART:20160623T183000Z
DTEND:20160623T200000Z
X-MICROSOFT-CDO-ALLDAYEVENT:FALSE
SUMMARY:Energy Efficiency & Savings
DESCRIPTION:THIS EVENT HAS BEEN CANCELED \n\nJoin us for this presentation to learn more about energy efficiency and savings in the home and business! There will be two presenters at this month's meeting.\n\n	Christopher Walker with Portland General Electric will discuss Energy Efficiency and the Energy Trust of Oregon incentive programs.\n	Sean Harris with Olson & Jones Construction will also present on Energy Performance Options.\n\nPresented by the Women in Leadership Team.\n\nRegistration required. Lunch available for purchase.
X-ALT-DESC;FMTTYPE=text/html:<span style="font-size:12px\;"><strong><span style="color:#FF0000\;">THIS EVENT HAS BEEN CANCELED&nbsp\;</span></strong></span><br />\nJoin us for this presentation to learn more about energy efficiency and savings in the home and business!&nbsp\;There will be two presenters at this month&#39\;s meeting.\n<ul>\n	<li>Christopher Walker with Portland General Electric will discuss Energy Efficiency and the Energy Trust of Oregon incentive programs.</li>\n	<li>Sean Harris with Olson &amp\; Jones Construction will also present on Energy Performance Options.</li>\n</ul>\nPresented by the Women in Leadership Team.<br />\nRegistration required. Lunch available for purchase.
LOCATION:Prontobella Italian Kitchen 16050 SE 82nd Drive Clackamas\, OR 97015
UID:e.2445.3394
SEQUENCE:3
DTSTAMP:20260424T072221Z
URL:https://portal.yourchamber.com/events/details/energy-efficiency-savings-06-23-2016-3394
END:VEVENT

END:VCALENDAR
