BEGIN:VCALENDAR
VERSION:2.0
PRODID:-//ChamberMaster//Event Calendar 2.0//EN
METHOD:PUBLISH
X-PUBLISHED-TTL:P3D
REFRESH-INTERVAL:P3D
CALSCALE:GREGORIAN
BEGIN:VEVENT
DTSTART:20250403T013000Z
DTEND:20250403T030000Z
X-MICROSOFT-CDO-ALLDAYEVENT:FALSE
SUMMARY:Fair Housing Reasonable Accommodation and Common Mistakes
DESCRIPTION:Landlord Study Hall is the premiere education for the Independent Rental Owner.  Established in 2002 by our Founder Kathryn King\, Realtor\, 503-997-9035.
X-ALT-DESC;FMTTYPE=text/html:Landlord Study Hall is the premiere education for the Independent Rental Owner.&nbsp\; Established in 2002 by our Founder Kathryn King\, Realtor\, 503-997-9035.
LOCATION:Unity of Portland\, Basement\, 4525 SE Stark St\, Portland\, OR 97215
UID:e.2445.12481
SEQUENCE:3
DTSTAMP:20260424T034725Z
URL:https://portal.yourchamber.com/events/details/fair-housing-reasonable-accommodation-and-common-mistakes-12481
END:VEVENT

END:VCALENDAR
