BEGIN:VCALENDAR
VERSION:2.0
PRODID:-//ChamberMaster//Event Calendar 2.0//EN
METHOD:PUBLISH
X-PUBLISHED-TTL:P3D
REFRESH-INTERVAL:P3D
CALSCALE:GREGORIAN
BEGIN:VEVENT
DTSTART:20250331T180000Z
DTEND:20250331T210000Z
X-MICROSOFT-CDO-ALLDAYEVENT:FALSE
SUMMARY:FREE 15 minute demo stretches with StretchLab Happy Valley
DESCRIPTION:Get a FREE stretch from StretchLab Happy Valley! 15 minute demo stretches to introduce you to the concept of one-on-one assisted stretching!
X-ALT-DESC;FMTTYPE=text/html:Get a FREE stretch from StretchLab Happy Valley! 15 minute demo stretches to introduce you to the concept of one-on-one assisted stretching!
LOCATION:The Springs at Happy Valley 13160 SE 172nd Ave\, Happy Valley\, OR 97086
UID:e.2445.12641
SEQUENCE:3
DTSTAMP:20260424T034946Z
URL:https://portal.yourchamber.com/events/details/free-15-minute-demo-stretches-with-stretchlab-happy-valley-12641
END:VEVENT

END:VCALENDAR
