BEGIN:VCALENDAR
VERSION:2.0
PRODID:-//ChamberMaster//Event Calendar 2.0//EN
METHOD:PUBLISH
X-PUBLISHED-TTL:P3D
REFRESH-INTERVAL:P3D
CALSCALE:GREGORIAN
BEGIN:VEVENT
DTSTART:20251224T151500Z
DTEND:20251224T170000Z
X-MICROSOFT-CDO-ALLDAYEVENT:FALSE
SUMMARY:Happy Valley Business Alliance Meeting
DESCRIPTION:Join us for the HVBA member meetings- we would love to have you join our Alliance! You can learn more and join here (or visit hvba.net)\n\n\n\nThe Happy Valley Business Alliance (HVBA) is a community focused organization that supports and connects Happy Valley business owners and brings attention to their businesses\, attractions\, and upcoming special events in Happy Valley. We are passionate about maintaining a great place to live and work\, so we strive to promote a healthy business network with our members. Growing our community partners who share our interests in contributing to the livelihood of the Happy Valley business network promotes sustainable relationships and economic growth in our community.\n\nHVBA was formed in 2005 with the intention of maintaining integrity and livability of our great community. As the original group of local business owners connected an alliance was formed so that each business would have a voice and could equally contribute to the economic development and success of the Happy Valley area. As our local business community grows\, so do our members. We continue to strive for each and every business to be as successful as possible and for our members to have a place to connect with other local business owners for support and access to the resources needed.
X-ALT-DESC;FMTTYPE=text/html:<p>Join us for the HVBA member meetings- we would love to have you join our Alliance! You can learn more and join <a href="http://hvba.net">here</a>&nbsp\;(or visit hvba.net)<br />\n<br />\nThe Happy Valley Business Alliance (HVBA) is a community focused organization that supports and connects Happy Valley business owners and brings attention to their businesses\, attractions\, and upcoming special events in Happy Valley.&nbsp\;We are passionate about maintaining a great place to live and work\, so we strive to promote a healthy business network with our members.&nbsp\;Growing our community partners who share our interests in contributing to the livelihood of the Happy Valley business network promotes sustainable relationships and economic growth in our community.</p>\n\n<p>HVBA was formed in 2005 with the intention of maintaining integrity and livability of our great community. As the original group of local business owners connected an alliance was formed so that each business would have a voice and could equally contribute to the economic development and success of the Happy Valley area.&nbsp\;As our local business community grows\, so do our members.&nbsp\;We continue to strive for each and every business to be as successful as possible and for our members to have a place to connect with other local business owners for support and access to the resources needed.</p>\n
LOCATION:Happy Valley City Hall 16000 SE Misty Dr Happy Valley\, OR 97086
UID:e.2445.12507
SEQUENCE:3
DTSTAMP:20260421T105453Z
URL:https://portal.yourchamber.com/events/details/happy-valley-business-alliance-meeting-12-24-2025-12507
END:VEVENT

END:VCALENDAR
