BEGIN:VCALENDAR
VERSION:2.0
PRODID:-//ChamberMaster//Event Calendar 2.0//EN
METHOD:PUBLISH
X-PUBLISHED-TTL:P3D
REFRESH-INTERVAL:P3D
CALSCALE:GREGORIAN
BEGIN:VEVENT
DTSTART:20251207T220000Z
DTEND:20251208T010000Z
X-MICROSOFT-CDO-ALLDAYEVENT:FALSE
SUMMARY:Holiday Appreciation Event 2025
DESCRIPTION:Winter Appreciation Event 2025 - Pictures with Santa - Hot Chocolate Bar - Craft Station - Cookie Decorating - S'Mores Making - Karaoke - Raffle Baskets 1 free raffle ticket. Proceeds from purchased raffle tickets to s
X-ALT-DESC;FMTTYPE=text/html:Winter Appreciation Event 2025 - Pictures with Santa - Hot Chocolate Bar - Craft Station - Cookie Decorating - S&#39\;Mores Making - Karaoke - Raffle Baskets 1 free raffle ticket. Proceeds from purchased raffle tickets to s
LOCATION:Solarium @ Ruzzo's Retreat 15252 Hwy 224 Damascus\, OR 97089
UID:e.2445.13389
SEQUENCE:3
DTSTAMP:20260421T105100Z
URL:https://portal.yourchamber.com/events/details/holiday-appreciation-event-2025-13389
END:VEVENT

END:VCALENDAR
