BEGIN:VCALENDAR
VERSION:2.0
PRODID:-//ChamberMaster//Event Calendar 2.0//EN
METHOD:PUBLISH
X-PUBLISHED-TTL:P3D
REFRESH-INTERVAL:P3D
CALSCALE:GREGORIAN
BEGIN:VEVENT
DTSTART:20250313T230000Z
DTEND:20250314T010000Z
X-MICROSOFT-CDO-ALLDAYEVENT:FALSE
SUMMARY:Homes on Parade
DESCRIPTION:Join us for a special showcase of newly remodeled apartments. You will also enjoy wine tasting\, hors d'ouevres\, and live music. Plus enter to win exciting prizes!
X-ALT-DESC;FMTTYPE=text/html:Join us for a special showcase of newly remodeled apartments. You will also enjoy wine tasting\, hors d&#39\;ouevres\, and live music. Plus enter to win exciting prizes!
LOCATION:Miramont Pointe Senior Living 11520 SE Sunnyside Rd Clackamas\, OR 97015
UID:e.2445.12633
SEQUENCE:3
DTSTAMP:20260424T021124Z
URL:https://portal.yourchamber.com/events/details/homes-on-parade-12633
END:VEVENT

END:VCALENDAR
