BEGIN:VCALENDAR
VERSION:2.0
PRODID:-//ChamberMaster//Event Calendar 2.0//EN
METHOD:PUBLISH
X-PUBLISHED-TTL:P3D
REFRESH-INTERVAL:P3D
CALSCALE:GREGORIAN
BEGIN:VEVENT
DTSTART:20250726T013000Z
DTEND:20250726T030000Z
X-MICROSOFT-CDO-ALLDAYEVENT:FALSE
SUMMARY:Kayak & Flow
DESCRIPTION:Kayak & Flow: Yoga and Kayaking Experience\n\nDrishti Wellness and eNRG Kayaking are collaborating to bring you a unique outdoor experience that blends gentle movement\, mindful connection\, and river adventure.\n\nThis 90-minute session begins with a 40-minute all-levels yoga practice\, followed by a 40-minute guided paddle along the Willamette River. Participants will enjoy complimentary coffee and tea to complete the experience.\n\nNo yoga or kayaking experience is necessary. Kayaks and all equipment are provided.\n\nLocation: eNRG Kayaking\, Oregon City\n\nDates & Times: \n\nJuly 11 6:30-8:00pm\n\nJuly 25 6:30-8:00pm\n\nJuly 26 8:00-9:30am\n\nCost: $37\n\nRegistration: Scan the QR code on the flyer or visit https://enrgkayaking.com/yoga/\n\nSpace is limited   early registration is encouraged.
X-ALT-DESC;FMTTYPE=text/html:<p><strong>Kayak &amp\; Flow: Yoga and Kayaking Experience</strong><br />\nDrishti Wellness and eNRG Kayaking are collaborating to bring you a unique outdoor experience that blends gentle movement\, mindful connection\, and river adventure.</p>\n\n<p>This 90-minute session begins with a 40-minute all-levels yoga practice\, followed by a 40-minute guided paddle along the Willamette River. Participants will enjoy complimentary coffee and tea to complete the experience.</p>\n\n<p>No yoga or kayaking experience is necessary. Kayaks and all equipment are provided.</p>\n\n<p><strong>Location:</strong> eNRG Kayaking\, Oregon City<br />\n<strong>Dates &amp\; Times:</strong>&nbsp\;<br />\nJuly 11 6:30-8:00pm<br />\nJuly 25 6:30-8:00pm<br />\nJuly 26 8:00-9:30am<br />\n<strong>Cost:</strong> $37<br />\n<strong>Registration:</strong> Scan the QR code on the flyer or visit&nbsp\;<a href="https://enrgkayaking.com/yoga/">https://enrgkayaking.com/yoga/</a></p>\n\n<p>Space is limited &mdash\; early registration is encouraged.</p>\n
LOCATION:
UID:e.2445.12980
SEQUENCE:3
DTSTAMP:20260419T145736Z
URL:https://portal.yourchamber.com/events/details/kayak-flow-07-25-2025-12980
END:VEVENT

END:VCALENDAR
