BEGIN:VCALENDAR
VERSION:2.0
PRODID:-//ChamberMaster//Event Calendar 2.0//EN
METHOD:PUBLISH
X-PUBLISHED-TTL:P3D
REFRESH-INTERVAL:P3D
CALSCALE:GREGORIAN
BEGIN:VEVENT
DTSTART:20250306T023000Z
DTEND:20250306T040000Z
X-MICROSOFT-CDO-ALLDAYEVENT:FALSE
SUMMARY:Landlord Study Hall - Westside - 2025 Legislative Landlord Tenant Law Update
DESCRIPTION:Landlord Study Hall is welcoming Jonathan Clay from Multifamily Northwest.  Jonathan will give the legislative update on bills being tracked and changes coming for Landlord Tenant Law in Oregon.  This education is critical to the Independent Rental Owner with a day job!  The schedule and sign ups are at www.landlordstudyhall.com.  For information on the group and it's history or getting involved call 503-997-9035.
X-ALT-DESC;FMTTYPE=text/html:Landlord Study Hall is welcoming Jonathan Clay from Multifamily Northwest.&nbsp\; Jonathan will give the legislative update on bills being tracked and changes coming for Landlord Tenant Law in Oregon.&nbsp\; This education is critical to the Independent Rental Owner with a day job!&nbsp\; The schedule and sign ups are at www.landlordstudyhall.com.&nbsp\; For information on the group and it&#39\;s history or getting involved call 503-997-9035.
LOCATION:Multifamily Northwest\, 16083 SW Upper Boones Ferry Rd #105\, Tigard\, OR 97224
UID:e.2445.12480
SEQUENCE:3
DTSTAMP:20260424T021358Z
URL:https://portal.yourchamber.com/events/details/landlord-study-hall-westside-2025-legislative-landlord-tenant-law-update-12480
END:VEVENT

END:VCALENDAR
