BEGIN:VCALENDAR
VERSION:2.0
PRODID:-//ChamberMaster//Event Calendar 2.0//EN
METHOD:PUBLISH
X-PUBLISHED-TTL:P3D
REFRESH-INTERVAL:P3D
CALSCALE:GREGORIAN
BEGIN:VEVENT
DTSTART:20250517T150000Z
DTEND:20250518T210000Z
X-MICROSOFT-CDO-ALLDAYEVENT:FALSE
SUMMARY:LoveOne Fundraiser at Pit Stop Coffee
DESCRIPTION:Pit Stop Coffee is donating 10% of their sales from the entire weekend to LoveOne!
X-ALT-DESC;FMTTYPE=text/html:Pit Stop Coffee is donating 10% of their sales from the entire weekend to LoveOne!&nbsp\;<br />\n&nbsp\;
LOCATION:Pit Stop Coffee Shop 11254 SE 21st Ave Milwaukie OR
UID:e.2445.12951
SEQUENCE:3
DTSTAMP:20260424T214314Z
URL:https://portal.yourchamber.com/events/details/loveone-fundraiser-at-pit-stop-coffee-12951
END:VEVENT

END:VCALENDAR
