BEGIN:VCALENDAR
VERSION:2.0
PRODID:-//ChamberMaster//Event Calendar 2.0//EN
METHOD:PUBLISH
X-PUBLISHED-TTL:P3D
REFRESH-INTERVAL:P3D
CALSCALE:GREGORIAN
BEGIN:VEVENT
DTSTART:20251211T200000Z
DTEND:20251211T210000Z
X-MICROSOFT-CDO-ALLDAYEVENT:FALSE
SUMMARY:NCEF Building Bridges Luncheon
DESCRIPTION:Our second annual Building Bridges Luncheon is Thursday\, December 11th\, 12 pm at the Sabin-Schellenberg Technical Center and you are invited! This lunch-and-learn focuses on connecting our local business leaders with the North Clackamas school community. As a business owner\, we'd love for you to attend to hear about the programs NCEF makes possible\, many focused on helping shape the next wave of students entering the workforce. Attending is a great way to learn about new programs\, network with other local businesses\, and enjoy a delicious meal prepared by Sabin Schellenberg culinary students.\n \n\nTickets are $35 and will sell out! Sponsorship packages are also available\, if you'd like to do more to support. \n \n\nBuy your tickets here: 2025 Building Bridges Luncheon.
X-ALT-DESC;FMTTYPE=text/html:<p><span style="color:rgb(0\, 0\, 0)"><strong>Our second annual Building Bridges Luncheon is Thursday\, December 11th\, 12 pm at the Sabin-Schellenberg Technical Center and you are invited!</strong><span style="font-family:arial\,sans-serif\; font-size:11pt"> This lunch-and-learn focuses on connecting our local business leaders with the North Clackamas school community. As a business owner\, we&rsquo\;d love for you to attend to hear about the programs NCEF makes possible\, many focused on helping shape the next wave of students entering the workforce. Attending is a great way to learn about new programs\, network with other local businesses\, and enjoy a delicious meal prepared by Sabin Schellenberg culinary students.</span></span></p>\n&nbsp\;\n\n<p><span style="color:rgb(0\, 0\, 0)"><span style="font-family:arial\,sans-serif\; font-size:11pt">Tickets are $35 and will sell out! Sponsorship packages are also available\, if you&rsquo\;d like to do more to support.&nbsp\;</span></span></p>\n&nbsp\;\n\n<p><span style="color:rgb(0\, 0\, 0)"><span style="font-family:arial\,sans-serif\; font-size:11pt">Buy your tickets here: </span><a href="https://ncefound.ejoinme.org/2025BuildingBridges" style="text-decoration: none\;"><u>2025 Building Bridges Luncheon</u></a><span style="font-family:arial\,sans-serif\; font-size:11pt">.&nbsp\;</span></span></p>\n
LOCATION:Sabin-Schellenberg Technical Center Krumm Community Room 14450 SE Johnson Road Milwaukie\, OR 97267
UID:e.2445.13380
SEQUENCE:3
DTSTAMP:20260419T220726Z
URL:https://portal.yourchamber.com/events/details/ncef-building-bridges-luncheon-13380
END:VEVENT

END:VCALENDAR
