BEGIN:VCALENDAR
VERSION:2.0
PRODID:-//ChamberMaster//Event Calendar 2.0//EN
METHOD:PUBLISH
X-PUBLISHED-TTL:P3D
REFRESH-INTERVAL:P3D
CALSCALE:GREGORIAN
BEGIN:VEVENT
DTSTART:20251226T160000Z
DTEND:20251226T170000Z
X-MICROSOFT-CDO-ALLDAYEVENT:FALSE
SUMMARY:NO AM BUSINESS CONNECTION - HAPPY HOLIDAYS!
DESCRIPTION:
X-ALT-DESC;FMTTYPE=text/html:
LOCATION:
UID:e.2445.13327
SEQUENCE:3
DTSTAMP:20260421T105254Z
URL:https://portal.yourchamber.com/events/details/no-am-business-connection-happy-holidays-13327
END:VEVENT

END:VCALENDAR
