BEGIN:VCALENDAR
VERSION:2.0
PRODID:-//ChamberMaster//Event Calendar 2.0//EN
METHOD:PUBLISH
X-PUBLISHED-TTL:P3D
REFRESH-INTERVAL:P3D
CALSCALE:GREGORIAN
BEGIN:VEVENT
DTSTART:20260102T160000Z
DTEND:20260102T170000Z
X-MICROSOFT-CDO-ALLDAYEVENT:FALSE
SUMMARY:NO AM Networking - HAPPY NEW YEAR!!
DESCRIPTION:Have a safe and happy 2026 from Your Chamber staff!
X-ALT-DESC;FMTTYPE=text/html:<p>Have a safe and happy 2026 from Your Chamber staff!</p>\n\n<p>&nbsp\;</p>\n\n<p>&nbsp\;</p>\n\n<p>&nbsp\;</p>\n\n<p>&nbsp\;</p>\n
LOCATION:
UID:e.2445.13383
SEQUENCE:3
DTSTAMP:20260421T121013Z
URL:https://portal.yourchamber.com/events/details/no-am-networking-happy-new-year-13383
END:VEVENT

END:VCALENDAR
