BEGIN:VCALENDAR
VERSION:2.0
PRODID:-//ChamberMaster//Event Calendar 2.0//EN
METHOD:PUBLISH
X-PUBLISHED-TTL:P3D
REFRESH-INTERVAL:P3D
CALSCALE:GREGORIAN
BEGIN:VEVENT
DTSTART:20260430T210000Z
DTEND:20260501T000000Z
X-MICROSOFT-CDO-ALLDAYEVENT:FALSE
SUMMARY:Open House at Arcadia Senior Living
DESCRIPTION:We are having a Farmers Market themed open house! We will have different stations throughout the building each with a different theme to promote the many different services and activities we offer here at Arcadia. It will be a great opportunity for folks to meet our team\, see the community\, and learn more about Arcadia Senior Living.
X-ALT-DESC;FMTTYPE=text/html:We are having a Farmers Market themed open house! We will have different stations throughout the building each with a different theme to promote the many different services and activities we offer here at Arcadia. It will be a great opportunity for folks to meet our team\, see the community\, and learn more about Arcadia Senior Living.&nbsp\;
LOCATION:Arcadia Senior Living 13031 SE Foster Rd Portland OR 97236
UID:e.2445.13483
SEQUENCE:3
DTSTAMP:20260421T081415Z
URL:https://portal.yourchamber.com/events/details/open-house-at-arcadia-senior-living-13483
END:VEVENT

END:VCALENDAR
