BEGIN:VCALENDAR
VERSION:2.0
PRODID:-//ChamberMaster//Event Calendar 2.0//EN
METHOD:PUBLISH
X-PUBLISHED-TTL:P3D
REFRESH-INTERVAL:P3D
CALSCALE:GREGORIAN
BEGIN:VEVENT
DTSTART:20251204T020000Z
DTEND:20251204T040000Z
X-MICROSOFT-CDO-ALLDAYEVENT:FALSE
SUMMARY:Paint & Pint @ the Pub
DESCRIPTION:Do you love to Paint? Join us for our monthly Paint & Pint class with Wendy Polk.\n\nCome and enjoy your favorite pint\, have dinner or a snack while you paint the night away.
X-ALT-DESC;FMTTYPE=text/html:Do you love to Paint? Join us for our monthly Paint &amp\; Pint class with Wendy Polk.<br />\nCome and enjoy your favorite pint\, have dinner or a snack while you paint the night away.&nbsp\;
LOCATION:
UID:e.2445.13198
SEQUENCE:3
DTSTAMP:20260421T095514Z
URL:https://portal.yourchamber.com/events/details/paint-pint-the-pub-12-03-2025-13198
END:VEVENT

END:VCALENDAR
