BEGIN:VCALENDAR
VERSION:2.0
PRODID:-//ChamberMaster//Event Calendar 2.0//EN
METHOD:PUBLISH
X-PUBLISHED-TTL:P3D
REFRESH-INTERVAL:P3D
CALSCALE:GREGORIAN
BEGIN:VEVENT
DTSTART:20250304T200000Z
DTEND:20250304T210000Z
X-MICROSOFT-CDO-ALLDAYEVENT:FALSE
SUMMARY:Public Policy/Government Affairs Meeting
DESCRIPTION:Please join us for our monthly Public Policy & Government Affairs meeting. All are welcome. The agenda will be as follows:\n\n\n1. Welcome and Introductions (5 minutes)\n\n  Brief welcome from the Chair\n\n  Round of introductions\n\n \n2. Chair's Report (10 minutes)\n\n  Brief update from the Chair on key activities and developments since the last meeting.\n\n \n3. Policy Discussion: Legislative Update (15 minutes)\n\n  2024 North Clackamas Chamber of Commerce Legislative Priorities\n\no Break down list into broader classifications.  Then - list which are our priorities within 2025 legislation?\n\n \n4. Establish a Work Group to form our Strategic Plan for this Committee\n\n\n\n5. Oregon State Chamber Web Calls:\n\n  CAT Tax Exemptions   SB 707 & SB 125\n\n  Strike Unemployment payments   SB 916\n\n  Liability Waivers   HB 3140\n\n  Transient Room Tax   HB 2977\n\n\n6. State of the Cities\n\n  Reviving the State of NCC Mayors Panel @ Camp Withycombe - Date TBD\n\n\n7. Action Items and Next Steps (15 minutes)\n\n  Review of action items from the current meeting.\n\n  Assignment of responsibilities for follow-up activities.\n\n  Discussion of timelines and deadlines.\n\n \n8. Other Business (5 minutes)\n\n  Brief discussion of any other relevant topics or issues.\n\n \n9. Adjournment
X-ALT-DESC;FMTTYPE=text/html:<div><span style="font-size: 10pt\; font-family: Arial\, sans-serif\; background-image: initial\; background-position: initial\; background-size: initial\; background-repeat: initial\; background-attachment: initial\; background-origin: initial\; background-clip: initial\;">Please join us for our monthly Public Policy &amp\; Government Affairs meeting. All are welcome. The agenda will be as follows:</span></div>\n<br />\n<strong>1. Welcome and Introductions (5 minutes)</strong>\n\n<div style="margin-left: 40px\;">&bull\; Brief welcome from the Chair</div>\n\n<div style="margin-left: 40px\;">&bull\; Round of introductions<br />\n&nbsp\;</div>\n<strong>2. Chair&#39\;s Report (10 minutes)</strong>\n\n<div style="margin-left: 40px\;">&bull\; Brief update from the Chair on key activities and developments since the last meeting.<br />\n&nbsp\;</div>\n<strong>3. Policy Discussion: Legislative Update (15 minutes)</strong>\n\n<div style="margin-left: 40px\;">&bull\; 2024 North Clackamas Chamber of Commerce Legislative Priorities</div>\n\n<div style="margin-left: 80px\;">o Break down list into broader classifications.&nbsp\; Then - list which are our priorities within 2025 legislation?<br />\n&nbsp\;</div>\n<strong>4. Establish a Work Group to form our Strategic Plan for this Committee</strong><br />\n<br />\n<strong>5. Oregon State Chamber Web Calls:</strong>\n\n<div style="margin-left: 40px\;">&bull\;&nbsp\;CAT Tax Exemptions &ndash\; <a href="https://olis.oregonlegislature.gov/liz/2025R1/Measures/Overview/SB707">SB 707</a> &amp\; <a href="https://olis.oregonlegislature.gov/liz/2025R1/Measures/Overview/SB125">SB 125</a><br />\n&bull\;&nbsp\;Strike Unemployment payments &ndash\; <a href="https://olis.oregonlegislature.gov/liz/2025R1/Measures/Overview/SB0916">SB 916</a><br />\n&bull\;&nbsp\;Liability Waivers &ndash\; <a href="https://olis.oregonlegislature.gov/liz/2025R1/Measures/Overview/HB3140">HB 3140</a><br />\n&bull\;&nbsp\;Transient Room Tax &ndash\; <a href="https://olis.oregonlegislature.gov/liz/2025R1/Measures/Overview/HB2977">HB 2977</a></div>\n<br />\n<strong>6. State of the Cities</strong>\n\n<div style="margin-left: 40px\;">&bull\; Reviving the State of NCC Mayors Panel @ <a href="https://url.avanan.click/v2/___https://www.google.com/search?sca_esv=a8788aec9e91873f&amp\;rlz=1C1ONGR_enUS1115US1115&amp\;sxsrf=AHTn8zoeSTYZVEY-CxD36zHDldEhxzF65A:1740775567348&amp\;q=Camp+Withycombe&amp\;spell=1&amp\;sa=X&amp\;ved=2ahUKEwic-MyqnueLAxXgMDQIHdvFNzYQkeECKAB6BAgUEAE___.YXAzOm5jY29jOmE6bzo5OTA4Y2E1N2M5OTc5MGVmMDA1ZDg5ZTFkY2VjZDVlMjo2Ojg4Yzc6ZDJhMDgzODFhMDI5MGQ1ZmMyNDhjZGM0NGRlZjJjNjY1YzFkODVlYTUxYTg2NmU0Y2MwMDliYWVkM2M4ZDJlZTpwOlQ6Tg">Camp Withycombe</a> - Date TBD</div>\n<br />\n<strong>7. Action Items and Next Steps (15 minutes)</strong>\n\n<div style="margin-left: 40px\;">&bull\; Review of action items from the current meeting.<br />\n&bull\; Assignment of responsibilities for follow-up activities.<br />\n&bull\; Discussion of timelines and deadlines.<br />\n&nbsp\;</div>\n<strong>8. Other Business (5 minutes)</strong>\n\n<div style="margin-left: 40px\;">&bull\; Brief discussion of any other relevant topics or issues.<br />\n&nbsp\;</div>\n<strong>9. Adjournment</strong>
LOCATION:North Clackamas Chamber of Commerce 8305 SE Monterey Ave. Ste 104 Happy Valley\, OR 97086 (NOTE\, First door on the right\, underneath the stairs!)
UID:e.2445.11052
SEQUENCE:3
DTSTAMP:20260424T021512Z
URL:https://portal.yourchamber.com/events/details/public-policy-government-affairs-meeting-03-04-2025-11052
END:VEVENT

END:VCALENDAR
