BEGIN:VCALENDAR
VERSION:2.0
PRODID:-//ChamberMaster//Event Calendar 2.0//EN
METHOD:PUBLISH
X-PUBLISHED-TTL:P3D
REFRESH-INTERVAL:P3D
CALSCALE:GREGORIAN
BEGIN:VEVENT
DTSTART:20251202T200000Z
DTEND:20251202T210000Z
X-MICROSOFT-CDO-ALLDAYEVENT:FALSE
SUMMARY:Government Affairs & Public Policy Meeting
DESCRIPTION:Please join us for our monthly Public Policy & Government Affairs meeting. All are welcome.\n\n\n\nIf you would like to receive a copy of the supporting documentation or would like to be added to the monthly calendar invitation that gets sent out\, please feel free to reach out to Zack. Otherwise\, we look forward to seeing everyone who can attend.
X-ALT-DESC;FMTTYPE=text/html:Please join us for our monthly Public Policy &amp\; Government Affairs meeting. All are welcome.<br />\n<br />\nIf you would like to receive a copy of the supporting documentation or would like to be added to the monthly calendar invitation that gets sent out\, please feel free to reach out to Zack. Otherwise\, we look forward to seeing everyone who can attend.
LOCATION:North Clackamas Chamber of Commerce 8305 SE Monterey Ave. Happy Valley\, OR 97086 (NOTE\, First door on the right\, underneath the stairs!)
UID:e.2445.11061
SEQUENCE:3
DTSTAMP:20260421T105342Z
URL:https://portal.yourchamber.com/events/details/public-policy-government-affairs-meeting-12-02-2025-11061
END:VEVENT

END:VCALENDAR
