BEGIN:VCALENDAR
VERSION:2.0
PRODID:-//ChamberMaster//Event Calendar 2.0//EN
METHOD:PUBLISH
X-PUBLISHED-TTL:P3D
REFRESH-INTERVAL:P3D
CALSCALE:GREGORIAN
BEGIN:VEVENT
DTSTART:20190204T194500Z
DTEND:20190204T211500Z
X-MICROSOFT-CDO-ALLDAYEVENT:FALSE
SUMMARY:Public Policy Meeting
DESCRIPTION:UPZONING: How will Changing Single Family Zoning in our Neighborhoods Affect Us?\n\nJoin the conversation at our Chamber?s monthly Public Policy meeting to learn more about Speaker of the House Tina Kotek?s proposal to ban single-family zoning in cities of 10\,000 or more.\n\nIs this the answer to our housing crisis?\n\nHow will increased density affect our neighborhoods and home values?\n\nHow would we handle the increased capacity and infrastructure needs? (sewer & water)\n\nCan the State tell the Cities and our County what to do? Where does "Home Rule" come in to play?\n\n \n\nBe part of this informative conversation and share your thoughts and concerns. \n\n\n\n\n\nBrown bag lunch event. Please provide your own food and beverage.
X-ALT-DESC;FMTTYPE=text/html:<strong>UPZONING: How will Changing Single Family Zoning in our Neighborhoods Affect Us?</strong><br />\nJoin the conversation at our Chamber?s monthly Public Policy meeting to learn more about Speaker of the House Tina Kotek?s proposal to ban single-family zoning in cities of 10\,000 or more.<br />\nIs this the answer to our housing crisis?<br />\nHow will increased density affect our neighborhoods and home values?<br />\nHow would we handle the increased capacity and infrastructure needs? (sewer &amp\; water)<br />\nCan the State tell the Cities and our County what to do?&nbsp\;<span style="font-family:calibri\,sans-serif\;"><span style="font-size:11.0pt\;">Where does &ldquo\;Home Rule&rdquo\; come in to play?</span></span><br />\n&nbsp\;<br />\nBe part of this informative conversation and share your thoughts and concerns.&nbsp\;<br />\n<br />\n<br />\n<span style="font-size:12px\;"><span style="font-family:arial\,sans-serif\;">Brown bag lunch event. Please provide your own food and beverage.</span></span>
LOCATION:Clackamas Fire Mt. Scott Station 9339 SE Causey Ave Happy Valley\, OR 97086
UID:e.2445.2457
SEQUENCE:3
DTSTAMP:20260422T192206Z
URL:https://portal.yourchamber.com/events/details/public-policy-team-meeting-02-04-2019-2457
END:VEVENT

END:VCALENDAR
