BEGIN:VCALENDAR
VERSION:2.0
PRODID:-//ChamberMaster//Event Calendar 2.0//EN
METHOD:PUBLISH
X-PUBLISHED-TTL:P3D
REFRESH-INTERVAL:P3D
CALSCALE:GREGORIAN
BEGIN:VEVENT
DTSTART:20181204T194500Z
DTEND:20181204T211500Z
X-MICROSOFT-CDO-ALLDAYEVENT:FALSE
SUMMARY:Public Policy Meeting
DESCRIPTION:This month we will have two very similar topics. Clackamas County is instrumental in delivering dark fiber throughout our rural areas to bring better connectitivy to our schools\, businesses and homes. Due to the limitation of flexible options\, they are going to be consdiering a proposal in becoming their own ISP provider.  Join us to learn how this might play out and how schools like Colton High have saved thousands of dollars having access to dark fiber.\n\n\n\nSecond is a newer concept of using TV whitespace to reach even more rural communities that don't have access to the costly instrastructure of broad band.  Connect Americans Now will join us to educate us on the new concept and technology that could connect outlying areas that are in desperate need of internet services and technologies.\n\n\n\nBrown bag lunch event. Please provide your own food and beverage.
X-ALT-DESC;FMTTYPE=text/html:<span style="font-family: arial\, sans-serif\; font-size: 12px\;">This month we will have two very similar topics. Clackamas County is instrumental in delivering dark fiber throughout our rural areas to bring better connectitivy to our schools\, businesses and homes. Due to the limitation of flexible options\, they are going to be consdiering a proposal in becoming their own ISP provider.&nbsp\; Join us to learn how this might play out and how schools like Colton High have saved thousands of dollars having access to dark fiber.<br />\n<br />\nSecond is a newer concept of using TV whitespace to reach even more rural communities that don&#39\;t have access to the costly instrastructure of broad band.&nbsp\; Connect Americans Now will join us to educate us on the new concept and technology that could connect outlying areas that are in desperate need of internet services and technologies.</span><br />\n<br />\n<span style="font-size:12px\;"><span style="font-family:arial\,sans-serif\;">Brown bag lunch event. Please provide your own food and beverage.</span></span>
LOCATION:Clackamas Fire Mt. Scott Station 9339 SE Causey Ave Happy Valley\, OR 97086
UID:e.2445.2455
SEQUENCE:3
DTSTAMP:20260421T140610Z
URL:https://portal.yourchamber.com/events/details/public-policy-team-meeting-12-03-2018-2455
END:VEVENT

END:VCALENDAR
