BEGIN:VCALENDAR
VERSION:2.0
PRODID:-//ChamberMaster//Event Calendar 2.0//EN
METHOD:PUBLISH
X-PUBLISHED-TTL:P3D
REFRESH-INTERVAL:P3D
CALSCALE:GREGORIAN
BEGIN:VEVENT
DTSTART:20251115T180000Z
DTEND:20251115T190000Z
X-MICROSOFT-CDO-ALLDAYEVENT:FALSE
SUMMARY:Ribbon Cutting - Claw City
DESCRIPTION:Join us for a ribbon cutting to celebrate and welcome Claw City to the Clackamas Town Center. \n\nTons of giveaways and prizes - fun for the whole family! \n\nLocated near the Cheesecake Factory.
X-ALT-DESC;FMTTYPE=text/html:Join us for a ribbon cutting to celebrate and welcome Claw City to the Clackamas Town Center.&nbsp\;<br />\nTons of giveaways and prizes - fun for the whole family!&nbsp\;<br />\nLocated near the Cheesecake Factory.<br />\n&nbsp\;
LOCATION:Clackamas Town Center 12000 SE 82nd Ave Suite K207 Happy Valley\, OR 97086
UID:e.2445.13375
SEQUENCE:3
DTSTAMP:20260421T081208Z
URL:https://portal.yourchamber.com/events/details/ribbon-cutting-claw-city-13375
END:VEVENT

END:VCALENDAR
