BEGIN:VCALENDAR
VERSION:2.0
PRODID:-//ChamberMaster//Event Calendar 2.0//EN
METHOD:PUBLISH
X-PUBLISHED-TTL:P3D
REFRESH-INTERVAL:P3D
CALSCALE:GREGORIAN
BEGIN:VEVENT
DTSTART:20251215T213000Z
DTEND:20251215T220000Z
X-MICROSOFT-CDO-ALLDAYEVENT:FALSE
SUMMARY:Ribbon Cutting - Gladstone Nature Park
DESCRIPTION:Join us for a ribbon cutting at Gladstone Nature Park!
X-ALT-DESC;FMTTYPE=text/html:Join us for a ribbon cutting at Gladstone Nature Park!<br />\n&nbsp\;
LOCATION:18111 Webster Rd. Gladstone\, OR 97027
UID:e.2445.13381
SEQUENCE:3
DTSTAMP:20260419T220643Z
URL:https://portal.yourchamber.com/events/details/ribbon-cutting-gladstone-nature-park-13381
END:VEVENT

END:VCALENDAR
