BEGIN:VCALENDAR
VERSION:2.0
PRODID:-//ChamberMaster//Event Calendar 2.0//EN
METHOD:PUBLISH
X-PUBLISHED-TTL:P3D
REFRESH-INTERVAL:P3D
CALSCALE:GREGORIAN
BEGIN:VEVENT
DTSTART:20260130T173000Z
DTEND:20260130T180000Z
X-MICROSOFT-CDO-ALLDAYEVENT:FALSE
SUMMARY:Ribbon Cutting - The Back Nine Golf
DESCRIPTION:Join us for a ribbon cutting to celebrate and welcome The Back Nine Golf!\n\nRefreshments and prizes!
X-ALT-DESC;FMTTYPE=text/html:Join us for a ribbon cutting to celebrate and welcome The Back Nine Golf!<br />\nRefreshments and prizes!<br />\n&nbsp\;
LOCATION:15530 SE 135th Ave Suite B Clackamas\, OR 97015
UID:e.2445.13404
SEQUENCE:3
DTSTAMP:20260421T121121Z
URL:https://portal.yourchamber.com/events/details/ribbon-cutting-the-back-nine-golf-13404
END:VEVENT

END:VCALENDAR
