BEGIN:VCALENDAR
VERSION:2.0
PRODID:-//ChamberMaster//Event Calendar 2.0//EN
METHOD:PUBLISH
X-PUBLISHED-TTL:P3D
REFRESH-INTERVAL:P3D
CALSCALE:GREGORIAN
BEGIN:VEVENT
DTSTART:20141219T190000Z
DTEND:20141219T210000Z
X-MICROSOFT-CDO-ALLDAYEVENT:FALSE
SUMMARY:S.A.F.E.-T. Training
DESCRIPTION:Situational Awareness For Everyone TrainingWhat is Situational Awareness?Situational awareness is the conscious processing of information received through any of our senses about the environment around us.  Once the information is received\, then what? It is how we process this information that directs our actions. The things we do and how we go about doing them determines our safety.Who should attend this event? Everyone that wishes to take a more active role in their safety. We all want to be safe\, but are you doing everything in your control to ensure this is taking place? This class will cover a variety of situations and scenarios that we often find ourselves in that can make us either vulnerable or an easy target.  Have you ever been at an ATM and felt like someone was too close and watching you? Did you look around to see if it was true or did you just keep your head down because you didn't want to make someone else feel uncomfortable?  Were you as safe as you could have been or were you vulnerable? We will address times like these and how our action or reaction can determine the outcome.Join us at Camp Withycombe for this educational event.  There is no fee to join\, although registration is required.
X-ALT-DESC;FMTTYPE=text/html:<p><span style="font-family:Arial\,Helvetica\,sans-serif\;font-size:small\;">Situational Awareness For Everyone Training</span></p><p><span style="font-family:Arial\,Helvetica\,sans-serif\;font-size:small\;">What is Situational Awareness?</span></p><p><span style="font-family:Arial\,Helvetica\,sans-serif\;font-size:small\;">Situational awareness is the conscious processing of information received through any of our senses about the environment around us.</span><span>&nbsp\; </span><span style="font-family:Arial\,Helvetica\,sans-serif\;font-size:small\;">Once the information is received\, then what? It is how we process this information that directs our actions. The things we do and how we go about doing them determines our safety.</span></p><p><span style="font-family:Arial\,Helvetica\,sans-serif\;font-size:small\;">Who should attend this event? Everyone that wishes to take a more active role in their safety. We all want to be safe\, but are you doing everything in your control to ensure this is taking place? This class will cover a variety of situations and scenarios that we often find ourselves in that can make us either vulnerable or an easy target.</span><span>&nbsp\; </span><span style="font-family:Arial\,Helvetica\,sans-serif\;font-size:small\;">Have you ever been at an ATM and felt like someone was too close and watching you? Did you look around to see if it was true or did you just keep your head down because you didn't want to make someone else feel uncomfortable?</span><span>&nbsp\; </span><span style="font-family:Arial\,Helvetica\,sans-serif\;font-size:small\;">Were you as safe as you could have been or were you vulnerable? We will address times like these and how our action or reaction can determine the outcome.</span></p><p><span style="font-family:Arial\,Helvetica\,sans-serif\;font-size:small\;">Join us at Camp Withycombe for this educational event.&nbsp\; There is no fee to join\,&nbsp\;although registration is required.</span></p><p><span style="font-family:Arial\,Helvetica\,sans-serif\;"></span></p><p><span style="font-family:Arial\,Helvetica\,sans-serif\;"></span></p><strong><span style="color:#5a4c3b\;font-size:xx-large\;font-face:Didot-Bold\;"><span style="color:#5a4c3b\;font-size:xx-large\;font-face:Didot-Bold\;"><span style="color:#5a4c3b\;font-size:xx-large\;font-face:Didot-Bold\;"><p align="LEFT"></p></span><p align="LEFT"></p></span><p align="LEFT"></p></span><p align="LEFT"></p></strong><p align="LEFT"></p><span style="color:#5a4c3b\;font-size:x-large\;font-face:HoeflerText-Regular\;"><p align="LEFT"></p><span style="color:#5a4c3b\;font-size:x-large\;font-face:HoeflerText-Regular\;"><p align="LEFT"></p><span style="color:#5a4c3b\;font-size:x-large\;font-face:HoeflerText-Regular\;"><p align="LEFT"></p><p><span style="font-family:Arial\,Helvetica\,sans-serif\;font-size:small\;"></span></p></span></span></span>
LOCATION:OMD -Facility Rental Program 15300 SE Minuteman Way\, Clackamas\, OR 97015
UID:e.2445.1684
SEQUENCE:3
DTSTAMP:20260421T081051Z
URL:https://portal.yourchamber.com/events/details/s-a-f-e-t-training-12-19-2014-1684
END:VEVENT

END:VCALENDAR
