BEGIN:VCALENDAR
VERSION:2.0
PRODID:-//ChamberMaster//Event Calendar 2.0//EN
METHOD:PUBLISH
X-PUBLISHED-TTL:P3D
REFRESH-INTERVAL:P3D
CALSCALE:GREGORIAN
BEGIN:VEVENT
DTSTART:20251122T180000Z
DTEND:20251123T000000Z
X-MICROSOFT-CDO-ALLDAYEVENT:FALSE
SUMMARY:Sah-Hah-Lee Golf Course Holiday Bazaar
DESCRIPTION:Join us for our second annual Holiday Bazaar on Saturday\, November 22nd from 10am-4pm! Help us in supporting small businesses and entrepreneurs by shopping local this year for Christmas. Come and browse our vendors unique gifts while enjoying a warm and festive feel. Indulge in complimentary appetizers and seasonal hot drinks catered by Two Chicks and A Rooster Catering! We can't wait to see you there!
X-ALT-DESC;FMTTYPE=text/html:Join us for our second annual Holiday Bazaar on Saturday\, November 22nd from 10am-4pm! Help us in supporting small businesses and entrepreneurs by shopping local this year for Christmas. Come and browse our vendors unique gifts while enjoying a warm and festive feel. Indulge in complimentary appetizers and seasonal hot drinks catered by Two Chicks and A Rooster Catering! We can't wait to see you there!&nbsp\;
LOCATION:Sah-Hah-Lee Golf Course Event Pavilion 17104 SE 130th Ave\, Clackamas\, OR 97015
UID:e.2445.13378
SEQUENCE:3
DTSTAMP:20260421T105001Z
URL:https://portal.yourchamber.com/events/details/sah-hah-lee-golf-course-holiday-bazaar-13378
END:VEVENT

END:VCALENDAR
