BEGIN:VCALENDAR
VERSION:2.0
PRODID:-//ChamberMaster//Event Calendar 2.0//EN
METHOD:PUBLISH
X-PUBLISHED-TTL:P3D
REFRESH-INTERVAL:P3D
CALSCALE:GREGORIAN
BEGIN:VEVENT
DTSTART:20251114T030000Z
DTEND:20251114T050000Z
X-MICROSOFT-CDO-ALLDAYEVENT:FALSE
SUMMARY:Trivia Night @ the Pub
DESCRIPTION:Are you a Trivia fan? Did you know our Clackamas Pub & Taproom hosts Trivia every Thursday?\n\nCome and enjoy Craft locally made cider\, from scratch food\, and great service.
X-ALT-DESC;FMTTYPE=text/html:Are you a Trivia fan? Did you know our Clackamas Pub &amp\; Taproom hosts Trivia every Thursday?<br />\nCome and enjoy Craft locally made cider\, from scratch food\, and great service.&nbsp\;
LOCATION:
UID:e.2445.13009
SEQUENCE:3
DTSTAMP:20260421T105157Z
URL:https://portal.yourchamber.com/events/details/trivia-night-the-pub-11-13-2025-13009
END:VEVENT

END:VCALENDAR
