BEGIN:VCALENDAR
VERSION:2.0
PRODID:-//ChamberMaster//Event Calendar 2.0//EN
METHOD:PUBLISH
X-PUBLISHED-TTL:P3D
REFRESH-INTERVAL:P3D
CALSCALE:GREGORIAN
BEGIN:VEVENT
DTSTART:20250427T010000Z
DTEND:20250427T030000Z
X-MICROSOFT-CDO-ALLDAYEVENT:FALSE
SUMMARY:Whiskey Tasting Experience Willamette Valley Farm to Flask
DESCRIPTION:Oregon Military Museum Project\n\nPRSENTS\n\nNEW BRIGHTON DISTILLERY\n\nWhiskey Tasting Experience\n\nWillamette Valley\n\nFarm to Flask\n\n\n$50 Ticket by Donation\n\nIncludes:\n\n	Tasting\n	Bites\n	Silent Auction\n	Raffle\n\n\nwww.oregonmilitarymuseumproject.org
X-ALT-DESC;FMTTYPE=text/html:<div style="text-align: center\;">Oregon Military Museum Project<br />\n<span style="font-size:18px\;"><span style="font-size:16px\;"><span style="font-size:14px\;">PRSENTS</span><br />\n<span style="font-size:18px\;">NEW BRIGHTON DISTILLERY</span></span><br />\n<span style="font-size:22px\;">Whiskey Tasting Experience</span><br />\n<span style="font-size:22px\;">Willamette Valley</span><br />\n<span style="font-size:22px\;">Farm to Flask</span></span></div>\n<br />\n<u><strong>$50 Ticket by Donation</strong></u><br />\nIncludes:\n<ul>\n	<li>Tasting</li>\n	<li>Bites</li>\n	<li>Silent Auction</li>\n	<li>Raffle</li>\n</ul>\n\n<div style="text-align: center\;">www.oregonmilitarymuseumproject.org</div>\n
LOCATION:Oregon Military Museum Camp Withycombe 15300 SW Minuteman Way Clackamas\, Oregon 97015
UID:e.2445.12636
SEQUENCE:3
DTSTAMP:20260424T051925Z
URL:https://portal.yourchamber.com/events/details/whiskey-tasting-experience-willamette-valley-farm-to-flask-12636
END:VEVENT

END:VCALENDAR
